BEGIN:VCALENDAR
VERSION:2.0
PRODID:-//ChamberMaster//Event Calendar 2.0//EN
METHOD:PUBLISH
X-PUBLISHED-TTL:P3D
REFRESH-INTERVAL:P3D
CALSCALE:GREGORIAN
BEGIN:VEVENT
DTSTART:20170813T220000Z
DTEND:20170814T000000Z
X-MICROSOFT-CDO-ALLDAYEVENT:FALSE
SUMMARY:BCYP Free Family Skate Night!
DESCRIPTION:Members of Barton County Young Professionals are invited to attend a special "Summer Fun" event at the UpNRollin Skate Center on Sunday\, August 13th. Spnosored by Cirrus Dental Group and Smallcakes Great Bend\, join us for an evening of family friendly skating\, food\, beverage and FUN! \n\n\n\nAdmission and skating for BCYP members and their children is complimentary thanks to our generous sponsors. Guests are welcome to enjoy laser tag for a fee of $4.50 per person if interested!\n\n\n\nSmallcakes will spoil us with mini cupcakes & Cirrus Dental will provide 4 door prizes of Crest\, professional strength white strips (valued at $65 each!)! We hope you can join us!
X-ALT-DESC;FMTTYPE=text/html:<span style="color: rgb(13\, 6\, 0)\; font-family: Georgia\; font-size: 13.3333px\;">Members of Barton County Young Professionals are invited to attend a special &quot\;Summer Fun&quot\; event at the UpNRollin Skate Center on Sunday\, August 13th. Spnosored by Cirrus Dental Group and Smallcakes Great Bend\, join us for an evening of family friendly skating\, food\, beverage and FUN!&nbsp\;</span><br style="color: rgb(13\, 6\, 0)\; font-family: Georgia\; font-size: 13.3333px\;" />\n<br style="color: rgb(13\, 6\, 0)\; font-family: Georgia\; font-size: 13.3333px\;" />\n<span style="color: rgb(13\, 6\, 0)\; font-family: Georgia\; font-size: 13.3333px\;">Admission and skating for BCYP members and their children is complimentary thanks to our generous sponsors. Guests are welcome to enjoy laser tag for a fee of $4.50 per person if interested!</span><br style="color: rgb(13\, 6\, 0)\; font-family: Georgia\; font-size: 13.3333px\;" />\n<br style="color: rgb(13\, 6\, 0)\; font-family: Georgia\; font-size: 13.3333px\;" />\n<span style="color: rgb(13\, 6\, 0)\; font-family: Georgia\; font-size: 13.3333px\;">Smallcakes will spoil us with mini cupcakes &amp\; Cirrus Dental will provide 4 door prizes of Crest\, professional strength white strips (valued at $65 each!)! We hope you can join us!</span>
LOCATION:UpNRollin Skate Center 4805 10th Street Great Bend\, KS 67530
UID:e.2303.3014
SEQUENCE:3
DTSTAMP:20260422T161458Z
URL:https://members.greatbend.org/events/details/bcyp-free-family-skate-night-3014
END:VEVENT

END:VCALENDAR
