BEGIN:VCALENDAR
VERSION:2.0
PRODID:-//ChamberMaster//Event Calendar 2.0//EN
METHOD:PUBLISH
X-PUBLISHED-TTL:P3D
REFRESH-INTERVAL:P3D
CALSCALE:GREGORIAN
BEGIN:VEVENT
DTSTART:20180227T180000Z
DTEND:20180227T190000Z
X-MICROSOFT-CDO-ALLDAYEVENT:FALSE
SUMMARY:BCYP Leadership Luncheon - Income Tax Update
DESCRIPTION:
X-ALT-DESC;FMTTYPE=text/html:
LOCATION:10th Street Pizza Hut
UID:e.2303.3714
SEQUENCE:3
DTSTAMP:20260422T082816Z
URL:https://members.greatbend.org/events/details/bcyp-leadership-luncheon-income-tax-update-3714
END:VEVENT

END:VCALENDAR
