BEGIN:VCALENDAR
VERSION:2.0
PRODID:-//ChamberMaster//Event Calendar 2.0//EN
METHOD:PUBLISH
X-PUBLISHED-TTL:P3D
REFRESH-INTERVAL:P3D
CALSCALE:GREGORIAN
BEGIN:VEVENT
DTSTART:20220729T230000Z
DTEND:20220730T000000Z
X-MICROSOFT-CDO-ALLDAYEVENT:FALSE
SUMMARY:Be Well Barton County Family Friendly Bike Ride
DESCRIPTION:Join us every Friday evening this summer at 6 p.m. for a family-friendly bike ride leaving from Jack Kilby Square in Great Bend!\n\nThe pace is relaxed and the route goes down the designated bike route on 19th Street\, around Veterans Lake\, and then back down 19th\, returning to Jack Kilby Square.
X-ALT-DESC;FMTTYPE=text/html:<span style="color: rgb(5\, 5\, 5)\; font-family: &quot\;Segoe UI Historic&quot\;\, &quot\;Segoe UI&quot\;\, Helvetica\, Arial\, sans-serif\; font-size: 15px\; background-color: rgb(255\, 255\, 255)\;">Join us every Friday evening this summer at 6 p.m. for a family-friendly bike ride leaving from Jack Kilby Square in Great Bend!</span><br style="color: rgb(5\, 5\, 5)\; font-family: &quot\;Segoe UI Historic&quot\;\, &quot\;Segoe UI&quot\;\, Helvetica\, Arial\, sans-serif\; font-size: 15px\; background-color: rgb(255\, 255\, 255)\;">\n<span style="color: rgb(5\, 5\, 5)\; font-family: &quot\;Segoe UI Historic&quot\;\, &quot\;Segoe UI&quot\;\, Helvetica\, Arial\, sans-serif\; font-size: 15px\; background-color: rgb(255\, 255\, 255)\;">The pace is relaxed and the route goes down the designated bike route on 19th Street\, around Veterans Lake\, and then back down 19th\, returning to Jack Kilby Square.</span>
LOCATION:Jack Kilby Square
UID:e.2303.10297
SEQUENCE:3
DTSTAMP:20260423T050214Z
URL:https://members.greatbend.org/events/details/be-well-barton-county-family-friendly-bike-ride-07-29-2022-10297
END:VEVENT

END:VCALENDAR
