BEGIN:VCALENDAR
VERSION:2.0
PRODID:-//ChamberMaster//Event Calendar 2.0//EN
METHOD:PUBLISH
X-PUBLISHED-TTL:P3D
REFRESH-INTERVAL:P3D
CALSCALE:GREGORIAN
BEGIN:VEVENT
DTSTART:20220730T123000Z
DTEND:20220730T210000Z
X-MICROSOFT-CDO-ALLDAYEVENT:FALSE
SUMMARY:Bike Brew Q Presented by Stone Sand Co.
DESCRIPTION:EVENTS\n\nSaturday July 30th\, 2022\n\n7:30 am 20 mile Road Ride (20-25 miles)\n\n7:30 am 20 and 40 mile Gravel Rides (new for 2022)\n\n7:30 am 40 Mile Road Ride (40 miles)\n\n9:00 am Lake Barton MTB Race (Located at Lake Barton Hike and Bike Trails)\n\n12:30pm VIP sessions open\n\n1:00pm - 4:00pm Craft Brew Expo \n\nFood Vendors open at 11 \n\n*********Cycling is optional\, you can attend just the Craft Brew Expo if you would like. All event tickets are separate*********\n\nCycling Events: These are fun rides. This is not a race (MTB Race is a race) although a little friendly competition can not be discouraged. When you purchase a ticket for any of the cycling events you are entitled to participation in the event\, use of the sag stops\, and a t-shirt (with appropriate ticket purchase).\n\nVIP Sessions - This is a VIP event where you are invited to sample exclusive beers\, VIP Only Swag\, and early entry to the Expo Floor.\n\nCraft Brew Expo: This is a friendly atmosphere for craft brew lovers or the curious to have the chance to try many of the different variety of beers offered by the many breweries in our state! When you purchase a ticket for this event you will receive a sampler glass and admission to Expo II to visit with breweries and try the beers they have provided. \n\nBarbecue: There will be barbecue trucks available on the expo grounds with food for purchase! \n\n \n\nEVENT DISCLAIMER\n\nAll participants of Bike Brew Q in support of the Cystic Fibrosis Foundation are to conduct themselves by the following Code of Conduct:\n\n\n	\n	Please be respectful to other patrons' person\, property\, and well-being.\n	\n	\n	Damage to event grounds\, event equipment or patrons' personal property is not acceptable and every action should be taken to avoid doing so.\n	\n	\n	Attending inebriated will result in immediate expulsion from the event. This will be left to the discretion of the event staff and security. Refrain from "pre-gaming" before the Brew Expo.\n	\n\n\n \n\nCycling Event Specific:\n\n\n	\n	This event is not a race. Be safe and aware of your surroundings.\n	\n	\n	There will be SAG stops along the routes and you are expected to conduct yourself in a polite manner.\n	\n	\n	The cycling event is a self-supported ride. If you become injured or are unable to complete the route chosen\, you will need to find your own way out of the presented situation. This includes physical\, mental\, mechanical and emergency events. We will have staff monitoring the rides and in the event of an emergency situation\, we will call 911 if the need is apparent. Bike Brew Q and it's board members are not liable for any injuries or damage to equipment sustained during the rides.  Cycling can be dangerous\, please use your best judgment.\n	\n\n\n \n\nBrew Expo Specific:\n\n\n	\n	Know your limits: If you become belligerent\, action will be taken to have you removed from the event. If this action results in the need for police action\, you will be responsible for any fees resulting from the event.\n	\n	\n	This too is not a race: Craft Brew Expos are not a race to see who can get drunk the quickest. Please enjoy the atmosphere provided and drink responsibly.\n	\n	\n	In the event that you become over-inebriated\, you will no longer be served alcohol and instead be given coffee and an area to recover. It is at the discretion of event staff to determine if you are in fact over-inebriated and if your attendance will continue.   \n	\n	\n	YOU ARE RESPONSIBLE FOR GETTING HOME IN A SAFE AND RESPONSIBLE MANNER. Bike Brew Q along with the Cystic Fibrosis Foundation and event staff are not legally responsible for any events that occur once you have left the event grounds. We will do everything in our power to ensure you leave the event in a manner that is within the constraints of the law and your personal well-being. If you suspect yourself to be too inebriated to drive\, we will allow you to reside in a designated area until transportation arrangements can be made.\n	\n	\n	Bike Brew Q and its board members are not liable for any injuries sustained at the event\, or on its grounds. Parties who wish to damage property at the event or on the expo grounds will be held accountable for their actions. \n	\n\n\nBreaking any of the above CoC or event bullet points will result in immediate expulsion from the event with a possible ban from future events.\n\n \n\nPlease conduct yourself in a manner that wouldn't make your Grandmother think less of you!
X-ALT-DESC;FMTTYPE=text/html:<h2 style="margin: 0px\; padding: 0px\; color: rgb(30\, 10\, 60)\; font-size: 24px\; line-height: 2rem\; letter-spacing: 0.5px\; font-family: &quot\;Neue Plak&quot\;\, -apple-system\, BlinkMacSystemFont\, Roboto\, &quot\;Helvetica Neue&quot\;\, Helvetica\, Tahoma\, Arial\, sans-serif\; background-color: rgb(255\, 255\, 255)\;"><span style="padding-top: 0px\;">EVENTS</span></h2>\n\n<p style="margin: 0px\; padding: 10px 0px 0px\; color: rgb(111\, 114\, 135)\; font-size: 16px\; line-height: 1.5rem\; font-family: &quot\;Neue Plak&quot\;\, -apple-system\, BlinkMacSystemFont\, Roboto\, &quot\;Helvetica Neue&quot\;\, Helvetica\, Tahoma\, Arial\, sans-serif\; letter-spacing: 0.5px\; background-color: rgb(255\, 255\, 255)\;">Saturday July 30th\, 2022</p>\n\n<p style="margin: 0px\; padding: 10px 0px 0px\; color: rgb(111\, 114\, 135)\; font-size: 16px\; line-height: 1.5rem\; font-family: &quot\;Neue Plak&quot\;\, -apple-system\, BlinkMacSystemFont\, Roboto\, &quot\;Helvetica Neue&quot\;\, Helvetica\, Tahoma\, Arial\, sans-serif\; letter-spacing: 0.5px\; background-color: rgb(255\, 255\, 255)\;">7:30 am 20 mile Road Ride (20-25 miles)</p>\n\n<p style="margin: 0px\; padding: 10px 0px 0px\; color: rgb(111\, 114\, 135)\; font-size: 16px\; line-height: 1.5rem\; font-family: &quot\;Neue Plak&quot\;\, -apple-system\, BlinkMacSystemFont\, Roboto\, &quot\;Helvetica Neue&quot\;\, Helvetica\, Tahoma\, Arial\, sans-serif\; letter-spacing: 0.5px\; background-color: rgb(255\, 255\, 255)\;">7:30 am 20 and 40 mile Gravel Rides (new for 2022)</p>\n\n<p style="margin: 0px\; padding: 10px 0px 0px\; color: rgb(111\, 114\, 135)\; font-size: 16px\; line-height: 1.5rem\; font-family: &quot\;Neue Plak&quot\;\, -apple-system\, BlinkMacSystemFont\, Roboto\, &quot\;Helvetica Neue&quot\;\, Helvetica\, Tahoma\, Arial\, sans-serif\; letter-spacing: 0.5px\; background-color: rgb(255\, 255\, 255)\;">7:30 am&nbsp\;40 Mile Road Ride (40 miles)</p>\n\n<p style="margin: 0px\; padding: 10px 0px 0px\; color: rgb(111\, 114\, 135)\; font-size: 16px\; line-height: 1.5rem\; font-family: &quot\;Neue Plak&quot\;\, -apple-system\, BlinkMacSystemFont\, Roboto\, &quot\;Helvetica Neue&quot\;\, Helvetica\, Tahoma\, Arial\, sans-serif\; letter-spacing: 0.5px\; background-color: rgb(255\, 255\, 255)\;">9:00 am Lake Barton MTB Race (Located at Lake Barton Hike and Bike Trails)</p>\n\n<p style="margin: 0px\; padding: 10px 0px 0px\; color: rgb(111\, 114\, 135)\; font-size: 16px\; line-height: 1.5rem\; font-family: &quot\;Neue Plak&quot\;\, -apple-system\, BlinkMacSystemFont\, Roboto\, &quot\;Helvetica Neue&quot\;\, Helvetica\, Tahoma\, Arial\, sans-serif\; letter-spacing: 0.5px\; background-color: rgb(255\, 255\, 255)\;">12:30pm VIP sessions open</p>\n\n<p style="margin: 0px\; padding: 10px 0px 0px\; color: rgb(111\, 114\, 135)\; font-size: 16px\; line-height: 1.5rem\; font-family: &quot\;Neue Plak&quot\;\, -apple-system\, BlinkMacSystemFont\, Roboto\, &quot\;Helvetica Neue&quot\;\, Helvetica\, Tahoma\, Arial\, sans-serif\; letter-spacing: 0.5px\; background-color: rgb(255\, 255\, 255)\;">1:00pm - 4:00pm&nbsp\;Craft Brew Expo&nbsp\;</p>\n\n<p style="margin: 0px\; padding: 10px 0px 0px\; color: rgb(111\, 114\, 135)\; font-size: 16px\; line-height: 1.5rem\; font-family: &quot\;Neue Plak&quot\;\, -apple-system\, BlinkMacSystemFont\, Roboto\, &quot\;Helvetica Neue&quot\;\, Helvetica\, Tahoma\, Arial\, sans-serif\; letter-spacing: 0.5px\; background-color: rgb(255\, 255\, 255)\;">Food Vendors open at 11&nbsp\;</p>\n\n<p style="margin: 0px\; padding: 10px 0px 0px\; color: rgb(111\, 114\, 135)\; font-size: 16px\; line-height: 1.5rem\; font-family: &quot\;Neue Plak&quot\;\, -apple-system\, BlinkMacSystemFont\, Roboto\, &quot\;Helvetica Neue&quot\;\, Helvetica\, Tahoma\, Arial\, sans-serif\; letter-spacing: 0.5px\; background-color: rgb(255\, 255\, 255)\;">*********Cycling is optional\, you can attend just the Craft Brew Expo if you would like. All event tickets are separate*********</p>\n\n<p style="margin: 0px\; padding: 10px 0px 0px\; color: rgb(111\, 114\, 135)\; font-size: 16px\; line-height: 1.5rem\; font-family: &quot\;Neue Plak&quot\;\, -apple-system\, BlinkMacSystemFont\, Roboto\, &quot\;Helvetica Neue&quot\;\, Helvetica\, Tahoma\, Arial\, sans-serif\; letter-spacing: 0.5px\; background-color: rgb(255\, 255\, 255)\;"><span style="font-weight: 700\; padding-top: 0px\;">Cycling Events:&nbsp\;</span>These are fun rides. This is not a race (MTB Race is a race) although a little friendly competition can not be discouraged. When you purchase a ticket for any of the cycling events you are entitled to participation in the event\, use of the sag stops\, and a t-shirt (with appropriate ticket purchase).</p>\n\n<p style="margin: 0px\; padding: 10px 0px 0px\; color: rgb(111\, 114\, 135)\; font-size: 16px\; line-height: 1.5rem\; font-family: &quot\;Neue Plak&quot\;\, -apple-system\, BlinkMacSystemFont\, Roboto\, &quot\;Helvetica Neue&quot\;\, Helvetica\, Tahoma\, Arial\, sans-serif\; letter-spacing: 0.5px\; background-color: rgb(255\, 255\, 255)\;"><span style="font-weight: 700\; padding-top: 0px\;">VIP Sessions -&nbsp\;</span>This is a VIP event where you are invited to sample exclusive beers\, VIP Only Swag\, and early entry to the Expo Floor.</p>\n\n<p style="margin: 0px\; padding: 10px 0px 0px\; color: rgb(111\, 114\, 135)\; font-size: 16px\; line-height: 1.5rem\; font-family: &quot\;Neue Plak&quot\;\, -apple-system\, BlinkMacSystemFont\, Roboto\, &quot\;Helvetica Neue&quot\;\, Helvetica\, Tahoma\, Arial\, sans-serif\; letter-spacing: 0.5px\; background-color: rgb(255\, 255\, 255)\;"><span style="font-weight: 700\; padding-top: 0px\;">Craft Brew Expo:</span>&nbsp\;This is a friendly atmosphere for craft brew lovers or the curious to have the chance to try many of the different variety of beers offered by the many breweries in our state! When you purchase a ticket for this event you will receive a sampler glass and admission to Expo II to visit with breweries and try the beers they have provided.&nbsp\;</p>\n\n<p style="margin: 0px\; padding: 10px 0px 0px\; color: rgb(111\, 114\, 135)\; font-size: 16px\; line-height: 1.5rem\; font-family: &quot\;Neue Plak&quot\;\, -apple-system\, BlinkMacSystemFont\, Roboto\, &quot\;Helvetica Neue&quot\;\, Helvetica\, Tahoma\, Arial\, sans-serif\; letter-spacing: 0.5px\; background-color: rgb(255\, 255\, 255)\;"><span style="font-weight: 700\; padding-top: 0px\;">Barbecue:</span>&nbsp\;There will be barbecue trucks available on the expo grounds with food for purchase!&nbsp\;</p>\n\n<p style="margin: 0px\; padding: 10px 0px 0px\; color: rgb(111\, 114\, 135)\; font-size: 16px\; line-height: 1.5rem\; font-family: &quot\;Neue Plak&quot\;\, -apple-system\, BlinkMacSystemFont\, Roboto\, &quot\;Helvetica Neue&quot\;\, Helvetica\, Tahoma\, Arial\, sans-serif\; letter-spacing: 0.5px\; background-color: rgb(255\, 255\, 255)\;">&nbsp\;</p>\n\n<p style="margin: 0px\; padding: 10px 0px 0px\; color: rgb(111\, 114\, 135)\; font-size: 16px\; line-height: 1.5rem\; font-family: &quot\;Neue Plak&quot\;\, -apple-system\, BlinkMacSystemFont\, Roboto\, &quot\;Helvetica Neue&quot\;\, Helvetica\, Tahoma\, Arial\, sans-serif\; letter-spacing: 0.5px\; background-color: rgb(255\, 255\, 255)\;"><span style="font-weight: 700\; padding-top: 0px\;">EVENT DISCLAIMER</span></p>\n\n<p style="margin: 0px\; padding: 10px 0px 0px\; color: rgb(111\, 114\, 135)\; font-size: 16px\; line-height: 1.5rem\; font-family: &quot\;Neue Plak&quot\;\, -apple-system\, BlinkMacSystemFont\, Roboto\, &quot\;Helvetica Neue&quot\;\, Helvetica\, Tahoma\, Arial\, sans-serif\; letter-spacing: 0.5px\; background-color: rgb(255\, 255\, 255)\;">All participants of Bike Brew Q in support of the Cystic Fibrosis Foundation are to conduct themselves by the following Code of Conduct:</p>\n\n<ul style="margin: 0px\; padding: 10px 0px 0px 2em\; list-style-position: initial\; list-style-image: initial\; color: rgb(111\, 114\, 135)\; font-size: 16px\; line-height: 1.5rem\; font-family: &quot\;Neue Plak&quot\;\, -apple-system\, BlinkMacSystemFont\, Roboto\, &quot\;Helvetica Neue&quot\;\, Helvetica\, Tahoma\, Arial\, sans-serif\; letter-spacing: 0.5px\; background-color: rgb(255\, 255\, 255)\;">\n	<li style="margin: 0px\; padding: 0px\;">\n	<p style="margin: 0px\; padding: 0px\; line-height: 1.5rem\;">Please be respectful to other patrons&rsquo\; person\, property\, and well-being.</p>\n	</li>\n	<li style="margin: 0px\; padding: 5px 0px 0px\;">\n	<p style="margin: 0px\; padding: 0px\; line-height: 1.5rem\;">Damage to event grounds\, event equipment or patrons&rsquo\; personal property is not acceptable and every action should be taken to avoid doing so.</p>\n	</li>\n	<li style="margin: 0px\; padding: 5px 0px 0px\;">\n	<p style="margin: 0px\; padding: 0px\; line-height: 1.5rem\;">Attending inebriated will result in immediate expulsion from the event. This will be left to the discretion of the event staff and security. Refrain from &ldquo\;pre-gaming&rdquo\; before the Brew Expo.</p>\n	</li>\n</ul>\n\n<p style="margin: 0px\; padding: 10px 0px 0px\; color: rgb(111\, 114\, 135)\; font-size: 16px\; line-height: 1.5rem\; font-family: &quot\;Neue Plak&quot\;\, -apple-system\, BlinkMacSystemFont\, Roboto\, &quot\;Helvetica Neue&quot\;\, Helvetica\, Tahoma\, Arial\, sans-serif\; letter-spacing: 0.5px\; background-color: rgb(255\, 255\, 255)\;">&nbsp\;</p>\n\n<p style="margin: 0px\; padding: 10px 0px 0px\; color: rgb(111\, 114\, 135)\; font-size: 16px\; line-height: 1.5rem\; font-family: &quot\;Neue Plak&quot\;\, -apple-system\, BlinkMacSystemFont\, Roboto\, &quot\;Helvetica Neue&quot\;\, Helvetica\, Tahoma\, Arial\, sans-serif\; letter-spacing: 0.5px\; background-color: rgb(255\, 255\, 255)\;"><span style="font-weight: 700\; padding-top: 0px\;">Cycling Event Specific:</span></p>\n\n<ul style="margin: 0px\; padding: 10px 0px 0px 2em\; list-style-position: initial\; list-style-image: initial\; color: rgb(111\, 114\, 135)\; font-size: 16px\; line-height: 1.5rem\; font-family: &quot\;Neue Plak&quot\;\, -apple-system\, BlinkMacSystemFont\, Roboto\, &quot\;Helvetica Neue&quot\;\, Helvetica\, Tahoma\, Arial\, sans-serif\; letter-spacing: 0.5px\; background-color: rgb(255\, 255\, 255)\;">\n	<li style="margin: 0px\; padding: 0px\;">\n	<p style="margin: 0px\; padding: 0px\; line-height: 1.5rem\;">This event is not a race. Be safe and aware of your surroundings.</p>\n	</li>\n	<li style="margin: 0px\; padding: 5px 0px 0px\;">\n	<p style="margin: 0px\; padding: 0px\; line-height: 1.5rem\;">There will be SAG stops along the routes and you are expected to conduct yourself in a polite manner.</p>\n	</li>\n	<li style="margin: 0px\; padding: 5px 0px 0px\;">\n	<p style="margin: 0px\; padding: 0px\; line-height: 1.5rem\;">The cycling event is a self-supported ride. If you become injured or are unable to complete the route chosen\, you will need to find your own way out of the presented situation. This includes physical\, mental\, mechanical and emergency events. We will have staff monitoring the rides and in the event of an emergency situation\, we will call 911 if the need is apparent. Bike Brew Q and it&#39\;s board members are not liable for any injuries or damage to equipment sustained during the rides. &nbsp\;Cycling can be dangerous\, please use your best judgment.</p>\n	</li>\n</ul>\n\n<p style="margin: 0px\; padding: 10px 0px 0px\; color: rgb(111\, 114\, 135)\; font-size: 16px\; line-height: 1.5rem\; font-family: &quot\;Neue Plak&quot\;\, -apple-system\, BlinkMacSystemFont\, Roboto\, &quot\;Helvetica Neue&quot\;\, Helvetica\, Tahoma\, Arial\, sans-serif\; letter-spacing: 0.5px\; background-color: rgb(255\, 255\, 255)\;">&nbsp\;</p>\n\n<p style="margin: 0px\; padding: 10px 0px 0px\; color: rgb(111\, 114\, 135)\; font-size: 16px\; line-height: 1.5rem\; font-family: &quot\;Neue Plak&quot\;\, -apple-system\, BlinkMacSystemFont\, Roboto\, &quot\;Helvetica Neue&quot\;\, Helvetica\, Tahoma\, Arial\, sans-serif\; letter-spacing: 0.5px\; background-color: rgb(255\, 255\, 255)\;"><span style="font-weight: 700\; padding-top: 0px\;">Brew Expo Specific:</span></p>\n\n<ul style="margin: 0px\; padding: 10px 0px 0px 2em\; list-style-position: initial\; list-style-image: initial\; color: rgb(111\, 114\, 135)\; font-size: 16px\; line-height: 1.5rem\; font-family: &quot\;Neue Plak&quot\;\, -apple-system\, BlinkMacSystemFont\, Roboto\, &quot\;Helvetica Neue&quot\;\, Helvetica\, Tahoma\, Arial\, sans-serif\; letter-spacing: 0.5px\; background-color: rgb(255\, 255\, 255)\;">\n	<li style="margin: 0px\; padding: 0px\;">\n	<p style="margin: 0px\; padding: 0px\; line-height: 1.5rem\;">Know your limits: If you become belligerent\, action will be taken to have you removed from the event. If this action results in the need for police action\, you will be responsible for any fees resulting from the event.</p>\n	</li>\n	<li style="margin: 0px\; padding: 5px 0px 0px\;">\n	<p style="margin: 0px\; padding: 0px\; line-height: 1.5rem\;">This too is not a race: Craft Brew Expos are not a race to see who can get drunk the quickest. Please enjoy the atmosphere provided and drink responsibly.</p>\n	</li>\n	<li style="margin: 0px\; padding: 5px 0px 0px\;">\n	<p style="margin: 0px\; padding: 0px\; line-height: 1.5rem\;">In the event that you become over-inebriated\, you will no longer be served alcohol and instead be given coffee and an area to recover. It is at the discretion of event staff to determine if you are in fact over-inebriated and if your attendance will continue. &nbsp\;&nbsp\;</p>\n	</li>\n	<li style="margin: 0px\; padding: 5px 0px 0px\;">\n	<p style="margin: 0px\; padding: 0px\; line-height: 1.5rem\;">YOU ARE RESPONSIBLE FOR GETTING HOME IN A SAFE AND RESPONSIBLE MANNER. Bike Brew Q along with the Cystic Fibrosis Foundation and event staff are not legally responsible for any events that occur once you have left the event grounds. We will do everything in our power to ensure you leave the event in a manner that is within the constraints of the law and your personal well-being. If you suspect yourself to be too inebriated to drive\, we will allow you to reside in a designated area until transportation arrangements can be made.</p>\n	</li>\n	<li style="margin: 0px\; padding: 5px 0px 0px\;">\n	<p style="margin: 0px\; padding: 0px\; line-height: 1.5rem\;">Bike Brew Q and its board members are not liable for any injuries sustained at the event\, or on its grounds. Parties who wish to damage property at the event or on the expo grounds will be held accountable for their actions.&nbsp\;</p>\n	</li>\n</ul>\n\n<p style="margin: 0px\; padding: 10px 0px 0px\; color: rgb(111\, 114\, 135)\; font-size: 16px\; line-height: 1.5rem\; font-family: &quot\;Neue Plak&quot\;\, -apple-system\, BlinkMacSystemFont\, Roboto\, &quot\;Helvetica Neue&quot\;\, Helvetica\, Tahoma\, Arial\, sans-serif\; letter-spacing: 0.5px\; background-color: rgb(255\, 255\, 255)\;">Breaking any of the above CoC or event bullet points will result in immediate expulsion from the event with a possible ban from future events.</p>\n\n<p style="margin: 0px\; padding: 10px 0px 0px\; color: rgb(111\, 114\, 135)\; font-size: 16px\; line-height: 1.5rem\; font-family: &quot\;Neue Plak&quot\;\, -apple-system\, BlinkMacSystemFont\, Roboto\, &quot\;Helvetica Neue&quot\;\, Helvetica\, Tahoma\, Arial\, sans-serif\; letter-spacing: 0.5px\; background-color: rgb(255\, 255\, 255)\;">&nbsp\;</p>\n\n<p style="margin: 0px\; padding: 10px 0px 0px\; color: rgb(111\, 114\, 135)\; font-size: 16px\; line-height: 1.5rem\; font-family: &quot\;Neue Plak&quot\;\, -apple-system\, BlinkMacSystemFont\, Roboto\, &quot\;Helvetica Neue&quot\;\, Helvetica\, Tahoma\, Arial\, sans-serif\; letter-spacing: 0.5px\; background-color: rgb(255\, 255\, 255)\;"><span style="font-weight: 700\; padding-top: 0px\;">Please conduct yourself in a manner that wouldn&rsquo\;t make your Grandmother think less of you!</span></p>\n\n<div>&nbsp\;</div>\n
LOCATION:Great Bend Expo Complex 455 W. Barton County Road Great Bend\, KS 67530
UID:e.2303.10596
SEQUENCE:3
DTSTAMP:20260423T050025Z
URL:https://members.greatbend.org/events/details/bike-brew-q-presented-by-stone-sand-co-10596
END:VEVENT

END:VCALENDAR
