BEGIN:VCALENDAR
VERSION:2.0
PRODID:-//ChamberMaster//Event Calendar 2.0//EN
METHOD:PUBLISH
X-PUBLISHED-TTL:P3D
REFRESH-INTERVAL:P3D
CALSCALE:GREGORIAN
BEGIN:VEVENT
DTSTART:20170422T123000Z
DTEND:20170422T123000Z
X-MICROSOFT-CDO-ALLDAYEVENT:FALSE
SUMMARY:Bike for Heartland
DESCRIPTION:Heartland Center for Spirituality and Heartland Farm are excited to announce the debut of our first or two exciting events in 2017.\n\n\n\nEvent Details:\n\n\n\n  Ride starts at 8:00 a.m. (Registration starts at 7:30)\n\no Please note that there is 1   miles of gravel road to the Farm and back \n\no Total Ride is 26 miles\n\n\n\n  Begins and Ends at Heartland Center for Spirituality 3600 Broadway Great Bend Kansas\n\no Tours\, light lunch and Earth Day photo booth at the end of the ride\n\n\n\n  Mid-Point Heartland Farm   Rush County 1049 CR 390 Pawnee Rock Kansas\n\no Earth Day activities and a tour of Heartland Farm available\n\n\n\n  This is a recreational ride - families are encouraged to participate\n\n\n\n  SAG station will have refills for water bottles available along with snacks\n\no In observance of Earth Day please provide your own water bottle\n\n\n\n  Bike Helments Required!\n\n\n\n  Riders under 15 must be accompanied by an adult\n\n\n\n  Registration   Early Registartion due by April 7\, 2017\n\no Individual Registration - $35   Includes T-shirt\n\n? Early Registration $25   Includes T-shirt \n\n? Race Day Registration $35   Shirts $10 (if available)\n\no Family Registration - $60   Includes 2 T-shirts ($10 for additional shirt)\n\n? Early Registration $50   Includes 2 T-shirts ($10 for additional shirt) \n\n? Race Day Registration $60   Shirts $10 (if available)
X-ALT-DESC;FMTTYPE=text/html:<span style="color: rgb(13\, 6\, 0)\; font-family: Georgia\; font-size: 13.3333px\;">Heartland Center for Spirituality and Heartland Farm are excited to announce the debut of our first or two exciting events in 2017.</span><br style="color: rgb(13\, 6\, 0)\; font-family: Georgia\; font-size: 13.3333px\;" />\n<br style="color: rgb(13\, 6\, 0)\; font-family: Georgia\; font-size: 13.3333px\;" />\n<span style="color: rgb(13\, 6\, 0)\; font-family: Georgia\; font-size: 13.3333px\;">Event Details:</span><br style="color: rgb(13\, 6\, 0)\; font-family: Georgia\; font-size: 13.3333px\;" />\n<br style="color: rgb(13\, 6\, 0)\; font-family: Georgia\; font-size: 13.3333px\;" />\n<span style="color: rgb(13\, 6\, 0)\; font-family: Georgia\; font-size: 13.3333px\;">&bull\; Ride starts at 8:00 a.m. (Registration starts at 7:30)</span><br style="color: rgb(13\, 6\, 0)\; font-family: Georgia\; font-size: 13.3333px\;" />\n<span style="color: rgb(13\, 6\, 0)\; font-family: Georgia\; font-size: 13.3333px\;">o Please note that there is 1 &frac12\; miles of gravel road to the Farm and back&nbsp\;</span><br style="color: rgb(13\, 6\, 0)\; font-family: Georgia\; font-size: 13.3333px\;" />\n<span style="color: rgb(13\, 6\, 0)\; font-family: Georgia\; font-size: 13.3333px\;">o Total Ride is 26 miles</span><br style="color: rgb(13\, 6\, 0)\; font-family: Georgia\; font-size: 13.3333px\;" />\n<br style="color: rgb(13\, 6\, 0)\; font-family: Georgia\; font-size: 13.3333px\;" />\n<span style="color: rgb(13\, 6\, 0)\; font-family: Georgia\; font-size: 13.3333px\;">&bull\; Begins and Ends at Heartland Center for Spirituality 3600 Broadway Great Bend Kansas</span><br style="color: rgb(13\, 6\, 0)\; font-family: Georgia\; font-size: 13.3333px\;" />\n<span style="color: rgb(13\, 6\, 0)\; font-family: Georgia\; font-size: 13.3333px\;">o Tours\, light lunch and Earth Day photo booth at the end of the ride</span><br style="color: rgb(13\, 6\, 0)\; font-family: Georgia\; font-size: 13.3333px\;" />\n<br style="color: rgb(13\, 6\, 0)\; font-family: Georgia\; font-size: 13.3333px\;" />\n<span style="color: rgb(13\, 6\, 0)\; font-family: Georgia\; font-size: 13.3333px\;">&bull\; Mid-Point Heartland Farm &ndash\; Rush County 1049 CR 390 Pawnee Rock Kansas</span><br style="color: rgb(13\, 6\, 0)\; font-family: Georgia\; font-size: 13.3333px\;" />\n<span style="color: rgb(13\, 6\, 0)\; font-family: Georgia\; font-size: 13.3333px\;">o Earth Day activities and a tour of Heartland Farm available</span><br style="color: rgb(13\, 6\, 0)\; font-family: Georgia\; font-size: 13.3333px\;" />\n<br style="color: rgb(13\, 6\, 0)\; font-family: Georgia\; font-size: 13.3333px\;" />\n<span style="color: rgb(13\, 6\, 0)\; font-family: Georgia\; font-size: 13.3333px\;">&bull\; This is a recreational ride - families are encouraged to participate</span><br style="color: rgb(13\, 6\, 0)\; font-family: Georgia\; font-size: 13.3333px\;" />\n<br style="color: rgb(13\, 6\, 0)\; font-family: Georgia\; font-size: 13.3333px\;" />\n<span style="color: rgb(13\, 6\, 0)\; font-family: Georgia\; font-size: 13.3333px\;">&bull\; SAG station will have refills for water bottles available along with snacks</span><br style="color: rgb(13\, 6\, 0)\; font-family: Georgia\; font-size: 13.3333px\;" />\n<span style="color: rgb(13\, 6\, 0)\; font-family: Georgia\; font-size: 13.3333px\;">o In observance of Earth Day please provide your own water bottle</span><br style="color: rgb(13\, 6\, 0)\; font-family: Georgia\; font-size: 13.3333px\;" />\n<br style="color: rgb(13\, 6\, 0)\; font-family: Georgia\; font-size: 13.3333px\;" />\n<span style="color: rgb(13\, 6\, 0)\; font-family: Georgia\; font-size: 13.3333px\;">&bull\; Bike Helments Required!</span><br style="color: rgb(13\, 6\, 0)\; font-family: Georgia\; font-size: 13.3333px\;" />\n<br style="color: rgb(13\, 6\, 0)\; font-family: Georgia\; font-size: 13.3333px\;" />\n<span style="color: rgb(13\, 6\, 0)\; font-family: Georgia\; font-size: 13.3333px\;">&bull\; Riders under 15 must be accompanied by an adult</span><br style="color: rgb(13\, 6\, 0)\; font-family: Georgia\; font-size: 13.3333px\;" />\n<br style="color: rgb(13\, 6\, 0)\; font-family: Georgia\; font-size: 13.3333px\;" />\n<span style="color: rgb(13\, 6\, 0)\; font-family: Georgia\; font-size: 13.3333px\;">&bull\; Registration &ndash\; Early Registartion due by April 7\, 2017</span><br style="color: rgb(13\, 6\, 0)\; font-family: Georgia\; font-size: 13.3333px\;" />\n<span style="color: rgb(13\, 6\, 0)\; font-family: Georgia\; font-size: 13.3333px\;">o Individual Registration - $35 &ndash\; Includes T-shirt</span><br style="color: rgb(13\, 6\, 0)\; font-family: Georgia\; font-size: 13.3333px\;" />\n<span style="color: rgb(13\, 6\, 0)\; font-family: Georgia\; font-size: 13.3333px\;">? Early Registration $25 &ndash\; Includes T-shirt&nbsp\;</span><br style="color: rgb(13\, 6\, 0)\; font-family: Georgia\; font-size: 13.3333px\;" />\n<span style="color: rgb(13\, 6\, 0)\; font-family: Georgia\; font-size: 13.3333px\;">? Race Day Registration $35 &ndash\; Shirts $10 (if available)</span><br style="color: rgb(13\, 6\, 0)\; font-family: Georgia\; font-size: 13.3333px\;" />\n<span style="color: rgb(13\, 6\, 0)\; font-family: Georgia\; font-size: 13.3333px\;">o Family Registration - $60 &ndash\; Includes 2 T-shirts ($10 for additional shirt)</span><br style="color: rgb(13\, 6\, 0)\; font-family: Georgia\; font-size: 13.3333px\;" />\n<span style="color: rgb(13\, 6\, 0)\; font-family: Georgia\; font-size: 13.3333px\;">? Early Registration $50 &ndash\; Includes 2 T-shirts ($10 for additional shirt)&nbsp\;</span><br style="color: rgb(13\, 6\, 0)\; font-family: Georgia\; font-size: 13.3333px\;" />\n<span style="color: rgb(13\, 6\, 0)\; font-family: Georgia\; font-size: 13.3333px\;">? Race Day Registration $60 &ndash\; Shirts $10 (if available)</span>
LOCATION:Heartland Center for Spirituality 3600 Broadway Great Bend Kansas
UID:e.2303.1011
SEQUENCE:3
DTSTAMP:20260422T221858Z
URL:https://members.greatbend.org/events/details/bike-for-heartland-1011
END:VEVENT

END:VCALENDAR
