BEGIN:VCALENDAR
VERSION:2.0
PRODID:-//ChamberMaster//Event Calendar 2.0//EN
METHOD:PUBLISH
X-PUBLISHED-TTL:P3D
REFRESH-INTERVAL:P3D
CALSCALE:GREGORIAN
BEGIN:VEVENT
DTSTART:20240615T230000Z
DTEND:20240616T003000Z
X-MICROSOFT-CDO-ALLDAYEVENT:FALSE
SUMMARY:Blooms & Bubbly - Happy Girl Flower Shop
DESCRIPTION:HAPPY GIRL BLOOMS & BUBBLY FLOWER ARRANGEMENT CLASS\n\nGet some of your besties together and experience the happiness of learning to make your own beautiful flower arrangements\, together! All equipment needed is included along with yummy snacks and a free bubbly refreshment!\n\n\n\nCall to register today at (620) 617-9174\n\n$85 per person
X-ALT-DESC;FMTTYPE=text/html:<p>HAPPY GIRL BLOOMS &amp\; BUBBLY FLOWER ARRANGEMENT CLASS</p>\n\n<p>Get some of your besties together and experience the happiness of learning to make your own beautiful flower arrangements\, together! All equipment needed is included along with yummy snacks and a free bubbly refreshment!<br />\n<br />\nCall to register today at&nbsp\;(620) 617-9174<br />\n$85 per person</p>\n
LOCATION:Happy Girl Flower Shop 109 A St Claflin\, KS
UID:e.2303.13647
SEQUENCE:3
DTSTAMP:20260425T154732Z
URL:https://members.greatbend.org/events/details/blooms-bubbly-happy-girl-flower-shop-13647
END:VEVENT

END:VCALENDAR
