BEGIN:VCALENDAR
VERSION:2.0
PRODID:-//ChamberMaster//Event Calendar 2.0//EN
METHOD:PUBLISH
X-PUBLISHED-TTL:P3D
REFRESH-INTERVAL:P3D
CALSCALE:GREGORIAN
BEGIN:VEVENT
DTSTART:20170806T190000Z
DTEND:20170806T210000Z
X-MICROSOFT-CDO-ALLDAYEVENT:FALSE
SUMMARY:Buffalo Soldiers: An American Legend on the Western Frontier - Santa Fe Trail Center Presentation
DESCRIPTION:Celeste Dixon\, Park Ranger from Fort Larned NHS will delve into the history of Co. A\, 10th U.S. Cavalry\, which arrived at Fort Larned in April 1867. They were one of the first of the new African American troops created by the Army Reorganization Act of 1866 assigned to field duty. Although the men did their job well\, they faced resentment and animosity from the white infantry troops stationed at the fort\, leading to a tragic event that led to their reassignment. This program will explore the formation of the 10th Cavalry and Company A's time at Fort Larned. It will also take a look at some of the some of the myths and realities associated with the Buffalo Soldiers from a historic perspective\, including the evolution of their iconic nickname.\n\n\n\nThis program is free and open to the public.
X-ALT-DESC;FMTTYPE=text/html:<span style="color: rgb(13\, 6\, 0)\; font-family: Georgia\; font-size: 13.3333px\;">Celeste Dixon\, Park Ranger from Fort Larned NHS will delve into the history of Co. A\, 10th U.S. Cavalry\, which arrived at Fort Larned in April 1867. They were one of the first of the new African American troops created by the Army Reorganization Act of 1866 assigned to field duty. Although the men did their job well\, they faced resentment and animosity from the white infantry troops stationed at the fort\, leading to a tragic event that led to their reassignment. This program will explore the formation of the 10th Cavalry and Company A&rsquo\;s time at Fort Larned. It will also take a look at some of the some of the myths and realities associated with the Buffalo Soldiers from a historic perspective\, including the evolution of their iconic nickname.</span><br style="color: rgb(13\, 6\, 0)\; font-family: Georgia\; font-size: 13.3333px\;" />\n<br style="color: rgb(13\, 6\, 0)\; font-family: Georgia\; font-size: 13.3333px\;" />\n<span style="color: rgb(13\, 6\, 0)\; font-family: Georgia\; font-size: 13.3333px\;">This program is free and open to the public.</span>
LOCATION:Santa Fe Trail Center 1349 K156 Hwy Larned\, KS 67550
UID:e.2303.1837
SEQUENCE:3
DTSTAMP:20260422T160639Z
URL:https://members.greatbend.org/events/details/buffalo-soldiers-an-american-legend-on-the-western-frontier-santa-fe-trail-center-presentation-1837
END:VEVENT

END:VCALENDAR
