BEGIN:VCALENDAR
VERSION:2.0
PRODID:-//ChamberMaster//Event Calendar 2.0//EN
METHOD:PUBLISH
X-PUBLISHED-TTL:P3D
REFRESH-INTERVAL:P3D
CALSCALE:GREGORIAN
BEGIN:VEVENT
DTSTART:20220707T123000Z
DTEND:20220707T150000Z
X-MICROSOFT-CDO-ALLDAYEVENT:FALSE
SUMMARY:Business Appreciation Breakfast & Chamber Coffee: Barton County Fair
DESCRIPTION:Hear the Sounds at the Barton County Fair!\n\n\n\n     Join us bright and early for a Business Appreciation Breakfast with pancakes and all the fixings\, starting at 7:30AM\, in Expo II! Outstanding door prizes provided by the 4-H Clubs will be drawn throughout the morning.\n\n\n\nThe 2022 Barton County Fair runs from July 6th -10th! This year's theme is: Hear the Sounds at the Barton County Fair! Learn more at bartoncountyfair.com.
X-ALT-DESC;FMTTYPE=text/html:<span style="color: rgb(51\, 51\, 51)\; font-family: sans-serif\, Arial\, Verdana\, &quot\;Trebuchet MS&quot\;\; font-size: 13px\; background-color: rgb(255\, 255\, 255)\;">Hear the Sounds at the Barton County Fair!</span><br style="color: rgb(51\, 51\, 51)\; font-family: sans-serif\, Arial\, Verdana\, &quot\;Trebuchet MS&quot\;\; font-size: 13px\;" />\n<br style="color: rgb(51\, 51\, 51)\; font-family: sans-serif\, Arial\, Verdana\, &quot\;Trebuchet MS&quot\;\; font-size: 13px\;" />\n<span style="color: rgb(5\, 5\, 5)\; font-family: Montserrat\, Arial\; font-size: 13.3333px\;">&#127849\; &#9749\;&#65039\; Join</span><span style="color: rgb(51\, 51\, 51)\; font-family: sans-serif\, Arial\, Verdana\, &quot\;Trebuchet MS&quot\;\; font-size: 13px\; background-color: rgb(255\, 255\, 255)\;"> us bright and early for a Business Appreciation Breakfast&nbsp\;with pancakes and all the fixings\, starting at 7:30AM\, in Expo II! Outstanding door prizes provided by the 4-H Clubs will be drawn throughout the morning.</span><br style="color: rgb(51\, 51\, 51)\; font-family: sans-serif\, Arial\, Verdana\, &quot\;Trebuchet MS&quot\;\; font-size: 13px\;" />\n<br style="color: rgb(51\, 51\, 51)\; font-family: sans-serif\, Arial\, Verdana\, &quot\;Trebuchet MS&quot\;\; font-size: 13px\;" />\n<span style="color: rgb(51\, 51\, 51)\; font-family: sans-serif\, Arial\, Verdana\, &quot\;Trebuchet MS&quot\;\; font-size: 13px\; background-color: rgb(255\, 255\, 255)\;">The 2022 Barton County Fair runs from July 6th -10th! This year&#39\;s theme is: Hear the Sounds at the Barton County Fair! Learn more at&nbsp\;</span><a href="https://www.bartoncountyfair.com/" style="color: rgb(7\, 130\, 193)\; font-family: sans-serif\, Arial\, Verdana\, &quot\;Trebuchet MS&quot\;\; font-size: 13px\;">bartoncountyfair.com</a><span style="color: rgb(51\, 51\, 51)\; font-family: sans-serif\, Arial\, Verdana\, &quot\;Trebuchet MS&quot\;\; font-size: 13px\; background-color: rgb(255\, 255\, 255)\;">.</span>
LOCATION:455 W. Barton County Rd. Expo 2 or watch online: https://www.facebook.com/223648337668874/posts/5610705228963131/ https://www.youtube.com/watch?v=UXlsXnD2NKw
UID:e.2303.9156
SEQUENCE:3
DTSTAMP:20260423T033505Z
URL:https://members.greatbend.org/events/details/business-appreciation-breakfast-chamber-coffee-barton-county-fair-9156
END:VEVENT

END:VCALENDAR
