BEGIN:VCALENDAR
VERSION:2.0
PRODID:-//ChamberMaster//Event Calendar 2.0//EN
METHOD:PUBLISH
X-PUBLISHED-TTL:P3D
REFRESH-INTERVAL:P3D
CALSCALE:GREGORIAN
BEGIN:VEVENT
DTSTART:20180204T003000Z
DTEND:20180204T050000Z
X-MICROSOFT-CDO-ALLDAYEVENT:FALSE
SUMMARY:CASA Chocolate Auction
DESCRIPTION:The 13th Annual CASA Chocolate Auction helps benefit the Children In Need of Care in the 20th Judicial District\, Barton\, Russell\, Stafford\, Rice\, and Russell Counties. By providing them a trained CASA Volunteer that helps the child(ren) through one of the most difficult times in their young lives. The CASA Volunteer advocates for the child(ren)'s best interest to the judge and all other parties.
X-ALT-DESC;FMTTYPE=text/html:The 13th Annual CASA Chocolate Auction helps benefit the Children In Need of Care in the 20th Judicial District\, Barton\, Russell\, Stafford\, Rice\, and Russell Counties. By providing them a trained CASA Volunteer that helps the child(ren) through one of the most difficult times in their young lives. The CASA Volunteer advocates for the child(ren)&#39\;s best interest to the judge and all other parties.
LOCATION:Great Bend Events Center
UID:e.2303.3640
SEQUENCE:3
DTSTAMP:20260420T082904Z
URL:https://members.greatbend.org/events/details/casa-chocolate-auction-02-03-2018-3640
END:VEVENT

END:VCALENDAR
