BEGIN:VCALENDAR
VERSION:2.0
PRODID:-//ChamberMaster//Event Calendar 2.0//EN
METHOD:PUBLISH
X-PUBLISHED-TTL:P3D
REFRESH-INTERVAL:P3D
CALSCALE:GREGORIAN
BEGIN:VEVENT
DTSTART:20170205T003000Z
DTEND:20170205T040000Z
X-MICROSOFT-CDO-ALLDAYEVENT:FALSE
SUMMARY:CASA Chocolate Auction
DESCRIPTION:More information to come...tickets go on sale December of 2016.\n\n\n\nDate - Feb 04\, 2017 \n\nTime - At 06:30 PM \n\nType - Community Event \n\nCommunity - Great Bend \n\nLocation - Great Bend Events Center \n\nContact - Caitlyn Eakin \n\nWebsite - http://kansascasa.org/program/district-20
X-ALT-DESC;FMTTYPE=text/html:<span style="color: rgb(13\, 6\, 0)\; font-family: Georgia\; font-size: 13.3333px\;">More information to come...tickets go on sale December of 2016.</span><br style="color: rgb(13\, 6\, 0)\; font-family: Georgia\; font-size: 13.3333px\;" />\n<br style="color: rgb(13\, 6\, 0)\; font-family: Georgia\; font-size: 13.3333px\;" />\n<span style="color: rgb(13\, 6\, 0)\; font-family: Georgia\; font-size: 13.3333px\;">Date - Feb 04\, 2017&nbsp\;</span><br style="color: rgb(13\, 6\, 0)\; font-family: Georgia\; font-size: 13.3333px\;" />\n<span style="color: rgb(13\, 6\, 0)\; font-family: Georgia\; font-size: 13.3333px\;">Time - At 06:30 PM&nbsp\;</span><br style="color: rgb(13\, 6\, 0)\; font-family: Georgia\; font-size: 13.3333px\;" />\n<span style="color: rgb(13\, 6\, 0)\; font-family: Georgia\; font-size: 13.3333px\;">Type - Community Event&nbsp\;</span><br style="color: rgb(13\, 6\, 0)\; font-family: Georgia\; font-size: 13.3333px\;" />\n<span style="color: rgb(13\, 6\, 0)\; font-family: Georgia\; font-size: 13.3333px\;">Community - Great Bend&nbsp\;</span><br style="color: rgb(13\, 6\, 0)\; font-family: Georgia\; font-size: 13.3333px\;" />\n<span style="color: rgb(13\, 6\, 0)\; font-family: Georgia\; font-size: 13.3333px\;">Location - Great Bend Events Center&nbsp\;</span><br style="color: rgb(13\, 6\, 0)\; font-family: Georgia\; font-size: 13.3333px\;" />\n<span style="color: rgb(13\, 6\, 0)\; font-family: Georgia\; font-size: 13.3333px\;">Contact - Caitlyn Eakin&nbsp\;</span><br style="color: rgb(13\, 6\, 0)\; font-family: Georgia\; font-size: 13.3333px\;" />\n<span style="color: rgb(13\, 6\, 0)\; font-family: Georgia\; font-size: 13.3333px\;">Website -&nbsp\;</span><a href="http://http//kansascasa.org/program/district-20" style="font-family: Georgia\; font-size: 13.3333px\;" target="_blank">http://kansascasa.org/program/district-20</a>
LOCATION:
UID:e.2303.1720
SEQUENCE:3
DTSTAMP:20260423T012926Z
URL:https://members.greatbend.org/events/details/casa-chocolate-auction-1720
END:VEVENT

END:VCALENDAR
