BEGIN:VCALENDAR
VERSION:2.0
PRODID:-//ChamberMaster//Event Calendar 2.0//EN
METHOD:PUBLISH
X-PUBLISHED-TTL:P3D
REFRESH-INTERVAL:P3D
CALSCALE:GREGORIAN
BEGIN:VEVENT
DTSTART:20170429T000000Z
DTEND:20170429T030000Z
X-MICROSOFT-CDO-ALLDAYEVENT:FALSE
SUMMARY:Catholic Charities Wine Tasting Event
DESCRIPTION:Catholic Charities is hosting the 16th Annual Charity Wine Tasting Event on April 28th\, 2017 at 7:00 p.m. at the Great Bend Event Center in Great Bend KS. \n\n\n\nThe evening features a broad selection of wines\, craft beers and spirits from around the world\, delicious hors d'oeuvres prepared by The Club at Stone Ridge\, live entertainment by Classical Guitarist\, Richard J Falcon Jr. and a large silent auction of interesting and creative items. At 8:00 p.m. a live auction kicks off with our auctioneer for the evening\, T.R. Esfeld. Admission is $50 per person\, or $450 for a table of ten. \n\n\n\nIn addition to support from Standard Beverage and Chlumsky's Liquormart\, some of the sponsors for this year's event include Curt's Oil Operations\, Great Bend Tribune\, Robert J Schmisseur - Attorney at Law\, Larry and Kathy Schugart\, the Dominican Sisters of Peace\, First Kansas Bank\, Great Bend Farm & Ranch Expo\, and Keenan Law Firm. \n\n\n\nThis major annual fundraiser helps us serve the community through pregnancy and teen mom support\, infant adoption\, addiction and mental health counseling\, relationship education and family support services\, emergency assistance\, non-food pantry supplies\, housing assistance\, immigration and refugee support\, and disaster relief. \n\n\n\nFor more information visit http://CatholicCharitiesSWKS.org/wine-tasting-event\, or contact Rebecca Ford at 620-792-1393\, or by email at rford@CatholicCharitiesSWKS.org
X-ALT-DESC;FMTTYPE=text/html:<span style="color: rgb(13\, 6\, 0)\; font-family: Georgia\; font-size: 13.3333px\;">Catholic Charities is hosting the 16th Annual Charity Wine Tasting Event on April 28th\, 2017 at 7:00 p.m. at the Great Bend Event Center in Great Bend KS.&nbsp\;</span><br style="color: rgb(13\, 6\, 0)\; font-family: Georgia\; font-size: 13.3333px\;" />\n<br style="color: rgb(13\, 6\, 0)\; font-family: Georgia\; font-size: 13.3333px\;" />\n<span style="color: rgb(13\, 6\, 0)\; font-family: Georgia\; font-size: 13.3333px\;">The evening features a broad selection of wines\, craft beers and spirits from around the world\, delicious hors d&#39\;oeuvres prepared by The Club at Stone Ridge\, live entertainment by Classical Guitarist\, Richard J Falcon Jr. and a large silent auction of interesting and creative items. At 8:00 p.m. a live auction kicks off with our auctioneer for the evening\, T.R. Esfeld. Admission is $50 per person\, or $450 for a table of ten.&nbsp\;</span><br style="color: rgb(13\, 6\, 0)\; font-family: Georgia\; font-size: 13.3333px\;" />\n<br style="color: rgb(13\, 6\, 0)\; font-family: Georgia\; font-size: 13.3333px\;" />\n<span style="color: rgb(13\, 6\, 0)\; font-family: Georgia\; font-size: 13.3333px\;">In addition to support from Standard Beverage and Chlumsky&#39\;s Liquormart\, some of the sponsors for this year&#39\;s event include Curt&#39\;s Oil Operations\, Great Bend Tribune\, Robert J Schmisseur - Attorney at Law\, Larry and Kathy Schugart\, the Dominican Sisters of Peace\, First Kansas Bank\, Great Bend Farm &amp\; Ranch Expo\, and Keenan Law Firm.&nbsp\;</span><br style="color: rgb(13\, 6\, 0)\; font-family: Georgia\; font-size: 13.3333px\;" />\n<br style="color: rgb(13\, 6\, 0)\; font-family: Georgia\; font-size: 13.3333px\;" />\n<span style="color: rgb(13\, 6\, 0)\; font-family: Georgia\; font-size: 13.3333px\;">This major annual fundraiser helps us serve the community through pregnancy and teen mom support\, infant adoption\, addiction and mental health counseling\, relationship education and family support services\, emergency assistance\, non-food pantry supplies\, housing assistance\, immigration and refugee support\, and disaster relief.&nbsp\;</span><br style="color: rgb(13\, 6\, 0)\; font-family: Georgia\; font-size: 13.3333px\;" />\n<br style="color: rgb(13\, 6\, 0)\; font-family: Georgia\; font-size: 13.3333px\;" />\n<span style="color: rgb(13\, 6\, 0)\; font-family: Georgia\; font-size: 13.3333px\;">For more information visit http://CatholicCharitiesSWKS.org/wine-tasting-event\, or contact Rebecca Ford at 620-792-1393\, or by email at rford@CatholicCharitiesSWKS.org</span>
LOCATION:Great Bend Events Center 3017 10th Street Great Bend\, KS
UID:e.2303.1223
SEQUENCE:3
DTSTAMP:20260422T220833Z
URL:https://members.greatbend.org/events/details/catholic-charities-wine-tasting-event-1223
END:VEVENT

END:VCALENDAR
