BEGIN:VCALENDAR
VERSION:2.0
PRODID:-//ChamberMaster//Event Calendar 2.0//EN
METHOD:PUBLISH
X-PUBLISHED-TTL:P3D
REFRESH-INTERVAL:P3D
CALSCALE:GREGORIAN
BEGIN:VEVENT
DTSTART;VALUE=DATE:20170923
DTEND;VALUE=DATE:20170924
TRANSP:TRANSPARENT
X-MICROSOFT-CDO-ALLDAYEVENT:TRUE
SUMMARY:Celebrate 100 years of Sutherlands!
DESCRIPTION:Come to Sutherlands and celebrate our 100 year anniversary with some great deals and a party in the parking lot!\n\n\n\nRicky Fugitt and his daughter Taylor will perform a free concert!\n\nFood vendors provided by Screwloose BBQ\, Sabores De Mexico\, Cannon Produce and snow cones!
X-ALT-DESC;FMTTYPE=text/html:Come to Sutherlands&nbsp\;and&nbsp\;celebrate our 100 year anniversary with some great deals&nbsp\;and a party in the parking lot!<br />\n<br />\nRicky Fugitt and his daughter Taylor will perform a free concert!<br />\nFood vendors provided by Screwloose BBQ\, Sabores De Mexico\, Cannon Produce and snow cones!
LOCATION:Sutherlands 5520 10th St Great Bend\, KS 67530
UID:e.2303.3324
SEQUENCE:3
DTSTAMP:20260422T150053Z
URL:https://members.greatbend.org/events/details/celebrate-100-years-of-sutherlands-3324
END:VEVENT

END:VCALENDAR
