BEGIN:VCALENDAR
VERSION:2.0
PRODID:-//ChamberMaster//Event Calendar 2.0//EN
METHOD:PUBLISH
X-PUBLISHED-TTL:P3D
REFRESH-INTERVAL:P3D
CALSCALE:GREGORIAN
BEGIN:VEVENT
DTSTART:20180519T140000Z
DTEND:20180519T210000Z
X-MICROSOFT-CDO-ALLDAYEVENT:FALSE
SUMMARY:Central Kansas Photography Club Seminar
DESCRIPTION:The Central Kansas Photography Club is hosting a Digital Photography Seminar Saturday May 19\, 2018 at the Kansas Wetlands Education Center. The Seminar will be lead by professional photographer Jason P. Odell from Colorado Springs\, CO. Jason specializes in wildlife\, landscape\, and creative urban themes. He has authored 13 comprehensive photography guides\, including guides to Nikon's Capture NX\, Adobe Photoshop Lightroom\, and Nik plug-ins. The seminar topic will include Birding Photography and Post Processing tips. Seating is limited to 65\, lunch will be provided. Registration fee is $49.00 or students $20.00. Pre-register by Thursday May 5th\, for questions contact: Connie Dyer at 620-617-7391.
X-ALT-DESC;FMTTYPE=text/html:The Central Kansas Photography Club is hosting a Digital Photography Seminar Saturday May 19\, 2018 at the Kansas Wetlands Education Center. The Seminar will be lead by professional photographer Jason P. Odell from Colorado Springs\, CO. Jason specializes in wildlife\, landscape\, and creative urban themes. He has authored 13 comprehensive photography guides\, including guides to Nikon&#39\;s Capture NX\, Adobe Photoshop Lightroom\, and Nik plug-ins. The seminar topic will include Birding Photography and Post Processing tips. Seating is limited to 65\, lunch will be provided. Registration fee is $49.00 or students $20.00. Pre-register by Thursday May 5th\, for questions contact: Connie Dyer at 620-617-7391.
LOCATION:Kansas Wetlands Education Center\, 592 NE K-156 Hwy\, Great Bend\, KS 67530
UID:e.2303.3735
SEQUENCE:3
DTSTAMP:20260422T082815Z
URL:https://members.greatbend.org/events/details/central-kansas-photography-club-seminar-3735
END:VEVENT

END:VCALENDAR
