BEGIN:VCALENDAR
VERSION:2.0
PRODID:-//ChamberMaster//Event Calendar 2.0//EN
METHOD:PUBLISH
X-PUBLISHED-TTL:P3D
REFRESH-INTERVAL:P3D
CALSCALE:GREGORIAN
BEGIN:VEVENT
DTSTART:20220714T190000Z
DTEND:20220714T200000Z
X-MICROSOFT-CDO-ALLDAYEVENT:FALSE
SUMMARY:Chamber Blue of Kansas Informational Webinar
DESCRIPTION:Interested in learning more about the Chamber Blue of Kansas?\n\n \n\nJoin us for a webinar:\n\nThursday\, July 14\, 2022 at 2PM\n\n \n\nBlue Cross and Blue Shield of Kansas (BCBSKS)\, in partnership with the Chamber of Commerce Executives of Kansas (CCEKS) and local Chambers across the state have created an association health plan (AHP)   Chamber Blue of Kansas. This AHP offers member businesses access to health insurance savings associated with large group medical coverage.\n\n \n\nJoin us as Andrew Gutierrez\, group sales consultant at Blue Cross\, discusses information about this health plan\, including eligibility\, benefit\, and enrollment information.\n\n \n\nRegister now!\n\n \n\nIf you are unable to attend\, a recording of the webinar will be posted on the Chamber Blue of Kansas website following the event.
X-ALT-DESC;FMTTYPE=text/html:Interested in learning more about the Chamber Blue of Kansas?<br />\n&nbsp\;<br />\nJoin us for a&nbsp\;<a data-saferedirecturl="https://www.google.com/url?q=https://urldefense.proofpoint.com/v2/url?u%3Dhttps-3A__bcbsks.zoom.us_webinar_register_WN-5F9fjF17EdRB-2D8SAxCL3zXZA%26d%3DDwMFAg%26c%3DeuGZstcaTDllvimEN8b7jXrwqOf-v5A_CdpgnVfiiMM%26r%3DKczp7W4fXpLGMcJWvJXF-PYvoMJknuiCZvGbSpPl2sU%26m%3DbjNxXptfaBkP32y0Z_CtGbC4k0gEiw4TF3hs25DGtxo%26s%3De2KrnNs_xAVNJjwkNI_89kLaGS3JdfwcPAwR3m7qrrc%26e%3D&amp\;source=gmail&amp\;ust=1657384570548000&amp\;usg=AOvVaw3WGR_fIhlXbJTFnp4qpCRW" href="https://urldefense.proofpoint.com/v2/url?u=https-3A__bcbsks.zoom.us_webinar_register_WN-5F9fjF17EdRB-2D8SAxCL3zXZA&amp\;d=DwMFAg&amp\;c=euGZstcaTDllvimEN8b7jXrwqOf-v5A_CdpgnVfiiMM&amp\;r=Kczp7W4fXpLGMcJWvJXF-PYvoMJknuiCZvGbSpPl2sU&amp\;m=bjNxXptfaBkP32y0Z_CtGbC4k0gEiw4TF3hs25DGtxo&amp\;s=e2KrnNs_xAVNJjwkNI_89kLaGS3JdfwcPAwR3m7qrrc&amp\;e=" style="color:rgb(17\, 85\, 204)\;" target="_blank"><span style="color:blue\;">webinar</span></a>:<br />\nThursday\, July 14\, 2022 at 2PM<br />\n&nbsp\;<br />\nBlue Cross and Blue Shield of Kansas (BCBSKS)\, in partnership with the Chamber of Commerce Executives of Kansas (CCEKS) and local Chambers across the state have created an association health plan (AHP) &ndash\;&nbsp\;<a data-saferedirecturl="https://www.google.com/url?q=https://urldefense.proofpoint.com/v2/url?u%3Dhttps-3A__www.bcbsks.com_chamberblueks%26d%3DDwMFAg%26c%3DeuGZstcaTDllvimEN8b7jXrwqOf-v5A_CdpgnVfiiMM%26r%3DKczp7W4fXpLGMcJWvJXF-PYvoMJknuiCZvGbSpPl2sU%26m%3DbjNxXptfaBkP32y0Z_CtGbC4k0gEiw4TF3hs25DGtxo%26s%3DcqXT_nepQEo188QLts0W-dP_oH_w-qyrTWvXPrSADRY%26e%3D&amp\;source=gmail&amp\;ust=1657384570548000&amp\;usg=AOvVaw0XlSxes0NNlspoBQqlsdJn" href="https://urldefense.proofpoint.com/v2/url?u=https-3A__www.bcbsks.com_chamberblueks&amp\;d=DwMFAg&amp\;c=euGZstcaTDllvimEN8b7jXrwqOf-v5A_CdpgnVfiiMM&amp\;r=Kczp7W4fXpLGMcJWvJXF-PYvoMJknuiCZvGbSpPl2sU&amp\;m=bjNxXptfaBkP32y0Z_CtGbC4k0gEiw4TF3hs25DGtxo&amp\;s=cqXT_nepQEo188QLts0W-dP_oH_w-qyrTWvXPrSADRY&amp\;e=" style="color:rgb(17\, 85\, 204)\;" target="_blank"><span style="color:blue\;">Chamber Blue of Kansas</span></a>. This AHP offers member businesses access to health insurance savings associated with large group medical coverage.<br />\n&nbsp\;<br />\nJoin us as Andrew Gutierrez\, group sales consultant at Blue Cross\, discusses information about this health plan\, including eligibility\, benefit\, and enrollment information.<br />\n&nbsp\;<br />\n<a data-saferedirecturl="https://www.google.com/url?q=https://urldefense.proofpoint.com/v2/url?u%3Dhttps-3A__bcbsks.zoom.us_webinar_register_WN-5F9fjF17EdRB-2D8SAxCL3zXZA%26d%3DDwMFAg%26c%3DeuGZstcaTDllvimEN8b7jXrwqOf-v5A_CdpgnVfiiMM%26r%3DKczp7W4fXpLGMcJWvJXF-PYvoMJknuiCZvGbSpPl2sU%26m%3DbjNxXptfaBkP32y0Z_CtGbC4k0gEiw4TF3hs25DGtxo%26s%3De2KrnNs_xAVNJjwkNI_89kLaGS3JdfwcPAwR3m7qrrc%26e%3D&amp\;source=gmail&amp\;ust=1657384570548000&amp\;usg=AOvVaw3WGR_fIhlXbJTFnp4qpCRW" href="https://urldefense.proofpoint.com/v2/url?u=https-3A__bcbsks.zoom.us_webinar_register_WN-5F9fjF17EdRB-2D8SAxCL3zXZA&amp\;d=DwMFAg&amp\;c=euGZstcaTDllvimEN8b7jXrwqOf-v5A_CdpgnVfiiMM&amp\;r=Kczp7W4fXpLGMcJWvJXF-PYvoMJknuiCZvGbSpPl2sU&amp\;m=bjNxXptfaBkP32y0Z_CtGbC4k0gEiw4TF3hs25DGtxo&amp\;s=e2KrnNs_xAVNJjwkNI_89kLaGS3JdfwcPAwR3m7qrrc&amp\;e=" style="color:rgb(17\, 85\, 204)\;" target="_blank"><span style="color:blue\;">Register now!</span></a><br />\n&nbsp\;<br />\nIf you are unable to attend\, a recording of the webinar will be posted on the&nbsp\;<a data-saferedirecturl="https://www.google.com/url?q=https://urldefense.proofpoint.com/v2/url?u%3Dhttps-3A__www.bcbsks.com_chamberblueks%26d%3DDwMFAg%26c%3DeuGZstcaTDllvimEN8b7jXrwqOf-v5A_CdpgnVfiiMM%26r%3DKczp7W4fXpLGMcJWvJXF-PYvoMJknuiCZvGbSpPl2sU%26m%3DbjNxXptfaBkP32y0Z_CtGbC4k0gEiw4TF3hs25DGtxo%26s%3DcqXT_nepQEo188QLts0W-dP_oH_w-qyrTWvXPrSADRY%26e%3D&amp\;source=gmail&amp\;ust=1657384570548000&amp\;usg=AOvVaw0XlSxes0NNlspoBQqlsdJn" href="https://urldefense.proofpoint.com/v2/url?u=https-3A__www.bcbsks.com_chamberblueks&amp\;d=DwMFAg&amp\;c=euGZstcaTDllvimEN8b7jXrwqOf-v5A_CdpgnVfiiMM&amp\;r=Kczp7W4fXpLGMcJWvJXF-PYvoMJknuiCZvGbSpPl2sU&amp\;m=bjNxXptfaBkP32y0Z_CtGbC4k0gEiw4TF3hs25DGtxo&amp\;s=cqXT_nepQEo188QLts0W-dP_oH_w-qyrTWvXPrSADRY&amp\;e=" style="color:rgb(17\, 85\, 204)\;" target="_blank"><span style="color:blue\;">Chamber Blue of Kansas website</span></a>&nbsp\;following the event.
LOCATION:
UID:e.2303.10855
SEQUENCE:3
DTSTAMP:20260423T032652Z
URL:https://members.greatbend.org/events/details/chamber-blue-of-kansas-informational-webinar-10855
END:VEVENT

END:VCALENDAR
