BEGIN:VCALENDAR
VERSION:2.0
PRODID:-//ChamberMaster//Event Calendar 2.0//EN
METHOD:PUBLISH
X-PUBLISHED-TTL:P3D
REFRESH-INTERVAL:P3D
CALSCALE:GREGORIAN
BEGIN:VEVENT
DTSTART:20201026T190000Z
DTEND:20201026T193000Z
X-MICROSOFT-CDO-ALLDAYEVENT:FALSE
SUMMARY:Chamber Chat
DESCRIPTION:Chamber Chat\, Virtually @2pm on the Chamber's Facebook Page or You Tube Channel
X-ALT-DESC;FMTTYPE=text/html:Chamber Chat\, Virtually @2pm on the Chamber&#39\;s Facebook Page or You Tube Channel
LOCATION:Chamber's Facebook Page or You Tube Channel
UID:e.2303.8050
SEQUENCE:3
DTSTAMP:20260425T123238Z
URL:https://members.greatbend.org/events/details/chamber-chat-10-26-2020-8050
END:VEVENT

END:VCALENDAR
