BEGIN:VCALENDAR
VERSION:2.0
PRODID:-//ChamberMaster//Event Calendar 2.0//EN
METHOD:PUBLISH
X-PUBLISHED-TTL:P3D
REFRESH-INTERVAL:P3D
CALSCALE:GREGORIAN
BEGIN:VEVENT
DTSTART:20201005T190000Z
DTEND:20201005T193000Z
X-MICROSOFT-CDO-ALLDAYEVENT:FALSE
SUMMARY:Chamber Chat: Chamber Focus
DESCRIPTION:Chamber Chat: Chamber Focus\, Virtually @2pm on the Chamber's Facebook Page or You Tube Channel
X-ALT-DESC;FMTTYPE=text/html:Chamber Chat: Chamber Focus\, Virtually @2pm on the Chamber&rsquo\;s Facebook Page or You Tube Channel
LOCATION:Chamber's Facebook Page or You Tube Channel https://www.facebook.com/gbcoc/videos/392541951912168/ https://www.youtube.com/watch?reload=9&v=dV2v1lL4Sr8
UID:e.2303.8044
SEQUENCE:3
DTSTAMP:20260425T122902Z
URL:https://members.greatbend.org/events/details/chamber-chat-chamber-focus-8044
END:VEVENT

END:VCALENDAR
