BEGIN:VCALENDAR
VERSION:2.0
PRODID:-//ChamberMaster//Event Calendar 2.0//EN
METHOD:PUBLISH
X-PUBLISHED-TTL:P3D
REFRESH-INTERVAL:P3D
CALSCALE:GREGORIAN
BEGIN:VEVENT
DTSTART:20210426T190000Z
DTEND:20210426T193000Z
X-MICROSOFT-CDO-ALLDAYEVENT:FALSE
SUMMARY:Chamber Chat LIVE: What's Up\, Great Bend!
DESCRIPTION:Chamber Chat LIVE hosted @ 2pm on the Chamber's Facebook Page or YouTube Channel.
X-ALT-DESC;FMTTYPE=text/html:Chamber Chat LIVE hosted @ 2pm on the Chamber&#39\;s Facebook Page or YouTube Channel.
LOCATION:https://www.facebook.com/223648337668874/posts/4254398167927184/ https://www.youtube.com/watch?v=TA2ymCuRCGc
UID:e.2303.8297
SEQUENCE:3
DTSTAMP:20260419T135407Z
URL:https://members.greatbend.org/events/details/chamber-chat-live-what-s-up-great-bend-8297
END:VEVENT

END:VCALENDAR
