BEGIN:VCALENDAR
VERSION:2.0
PRODID:-//ChamberMaster//Event Calendar 2.0//EN
METHOD:PUBLISH
X-PUBLISHED-TTL:P3D
REFRESH-INTERVAL:P3D
CALSCALE:GREGORIAN
BEGIN:VEVENT
DTSTART:20230209T150000Z
DTEND:20230209T160000Z
X-MICROSOFT-CDO-ALLDAYEVENT:FALSE
SUMMARY:Chamber Coffee: Ambassador Coffee
DESCRIPTION:Please join us for our weekly Chamber Coffee\, this week is hosted by Chamber Ambassdors\, 1321 Main St. (Equity Bank)\, Great Bend. Doors open at 9 am. The program begins at 9:30 am. If you can't make it in person\, join us on Facebook or YouTube! #Networking #JoinUs
X-ALT-DESC;FMTTYPE=text/html:<span data-sheets-userformat="{&quot\;2&quot\;:6659\,&quot\;3&quot\;:{&quot\;1&quot\;:0}\,&quot\;4&quot\;:{&quot\;1&quot\;:2\,&quot\;2&quot\;:16777215}\,&quot\;12&quot\;:0\,&quot\;14&quot\;:{&quot\;1&quot\;:2\,&quot\;2&quot\;:328965}\,&quot\;15&quot\;:&quot\;Montserrat\, Arial&quot\;}" data-sheets-value="{&quot\;1&quot\;:2\,&quot\;2&quot\;:&quot\;&#127849\; &#9749\;&#65039\; Please join us for our weekly Chamber Coffee\, this week is hosted by Chamber Ambassdors\, 1125 Williams St.\, Great Bend. Doors open at 9 am. The program begins at 9:30 am. If you can't make it in person\, join us on Facebook or YouTube! #Networking #JoinUs&quot\;}" style="font-size: 10pt\; font-family: Montserrat\, Arial\; color: rgb(5\, 5\, 5)\;">&#127849\; &#9749\;&#65039\; Please join us for our weekly Chamber Coffee\, this week is hosted by Chamber Ambassdors\, 1321 Main St. (Equity Bank)\, Great Bend. Doors open at 9 am. The program begins at 9:30 am. If you can&#39\;t make it in person\, join us on Facebook or YouTube! #Networking #JoinUs</span>
LOCATION:1321 Main St. - Equity Bank
UID:e.2303.11626
SEQUENCE:3
DTSTAMP:20260424T215134Z
URL:https://members.greatbend.org/events/details/chamber-coffee-ambassador-coffee-11626
END:VEVENT

END:VCALENDAR
