BEGIN:VCALENDAR
VERSION:2.0
PRODID:-//ChamberMaster//Event Calendar 2.0//EN
METHOD:PUBLISH
X-PUBLISHED-TTL:P3D
REFRESH-INTERVAL:P3D
CALSCALE:GREGORIAN
BEGIN:VEVENT
DTSTART:20260326T140000Z
DTEND:20260326T150000Z
X-MICROSOFT-CDO-ALLDAYEVENT:FALSE
SUMMARY:Chamber Coffee AND Ribbon Cutting: Angels Care Home Health
DESCRIPTION:Chamber Coffee AND Ribbon Cutting Today   \n\nJoin the Great Bend Chamber of Commerce for a Chamber Coffee and Ribbon Cutting to celebrate new members and learn more about Angels Care Home Health! Sip on some coffee\, make great connections\, and hear what's new and noteworthy in our community. Doors open at 9:00 AM\, and the program kicks off at 9:30 AM. Come start the morning with us!
X-ALT-DESC;FMTTYPE=text/html:<span style="font-size: 16px\;">&#9749\;&#65039\;</span><strong style="font-size: 16px\;">Chamber Coffee AND Ribbon Cutting Today</strong><span style="font-size: 16px\;">&nbsp\;&#9728\;&#65039\;</span><br style="font-size: 16px\;" />\n<span style="font-size: 16px\;">Join the Great Bend Chamber of Commerce for a Chamber Coffee and Ribbon Cutting to celebrate new members and learn more about Angels Care Home Health! Sip on some coffee\, make great connections\, and hear what&#39\;s new and noteworthy in our community. Doors open at 9:00 AM\, and the program kicks off at 9:30 AM. Come start the morning with us!</span>
LOCATION:Great Bend Chamber of Commerce Board Room 1125 Williams St Great Bend\, KS 67530
UID:e.2303.18206
SEQUENCE:3
DTSTAMP:20260421T121733Z
URL:https://members.greatbend.org/events/details/chamber-coffee-angels-care-home-health-18206
END:VEVENT

END:VCALENDAR
