BEGIN:VCALENDAR
VERSION:2.0
PRODID:-//ChamberMaster//Event Calendar 2.0//EN
METHOD:PUBLISH
X-PUBLISHED-TTL:P3D
REFRESH-INTERVAL:P3D
CALSCALE:GREGORIAN
BEGIN:VEVENT
DTSTART:20171005T140000Z
DTEND:20171005T150000Z
X-MICROSOFT-CDO-ALLDAYEVENT:FALSE
SUMMARY:Chamber Coffee: Barton Community College Bookstore
DESCRIPTION:The Community is invited to attend the weekly Chamber Coffee\, hosted on Thursday\, Oct. 5th by Barton Community College Bookstore\, Upper Level of the Student Union\, 245 NE 30 Rd\, Great Bend.
X-ALT-DESC;FMTTYPE=text/html:The Community is invited to attend the weekly Chamber Coffee\, hosted on Thursday\, Oct. 5th&nbsp\;by Barton Community College Bookstore\, Upper Level of the Student Union\, 245 NE 30 Rd\, Great Bend.
LOCATION:Barton Community College Bookstore Upper Level of the Student Union 245 NE 30 Rd Great Bend\, KS 67530
UID:e.2303.3330
SEQUENCE:3
DTSTAMP:20260422T132935Z
URL:https://members.greatbend.org/events/details/chamber-coffee-barton-community-college-bookstore-3330
END:VEVENT

END:VCALENDAR
