BEGIN:VCALENDAR
VERSION:2.0
PRODID:-//ChamberMaster//Event Calendar 2.0//EN
METHOD:PUBLISH
X-PUBLISHED-TTL:P3D
REFRESH-INTERVAL:P3D
CALSCALE:GREGORIAN
BEGIN:VEVENT
DTSTART:20220714T140000Z
DTEND:20220715T030000Z
X-MICROSOFT-CDO-ALLDAYEVENT:FALSE
SUMMARY:Chamber Coffee: Barton Community College Foundation
DESCRIPTION:Please join us for our weekly Chamber Coffee\, this week which is hosted by Barton Community College Foundation\, 245 NE 30th Rd.\, in Great Bend. Doors open at 9 am. The program begins at 9:30 am. If you can't make it in person\, join us online! #Networking #JoinUs
X-ALT-DESC;FMTTYPE=text/html:<span style="font-family: Roboto\, RobotoDraft\, Helvetica\, Arial\, sans-serif\; font-size: 13px\; white-space: pre-wrap\; background-color: rgb(255\, 255\, 255)\;">&#127849\; &#9749\;&#65039\; Please join us for our weekly Chamber Coffee\, this week which is hosted by Barton Community College Foundation\, 245 NE 30th Rd.\,</span><span style="background-color: rgb(255\, 255\, 255)\; font-family: Roboto\, RobotoDraft\, Helvetica\, Arial\, sans-serif\; font-size: 13px\; white-space: pre-wrap\;"> in Great Bend. Doors open at 9 am. The program begins at 9:30 am. If you can&#39\;t make it in person\, join us online! #Networking #JoinUs</span>
LOCATION:Administration (A) Building: at the College\, the building with the A on the north side (you can see it from the first parking lot or the road). The entrance is on the south side\, look for blue and gold balloons!
UID:e.2303.9432
SEQUENCE:3
DTSTAMP:20260423T032651Z
URL:https://members.greatbend.org/events/details/chamber-coffee-barton-community-college-foundation-07-14-2022-9432
END:VEVENT

END:VCALENDAR
