BEGIN:VCALENDAR
VERSION:2.0
PRODID:-//ChamberMaster//Event Calendar 2.0//EN
METHOD:PUBLISH
X-PUBLISHED-TTL:P3D
REFRESH-INTERVAL:P3D
CALSCALE:GREGORIAN
BEGIN:VEVENT
DTSTART:20170803T140000Z
DTEND:20170803T150000Z
X-MICROSOFT-CDO-ALLDAYEVENT:FALSE
SUMMARY:Chamber Coffee: Barton County Academy
DESCRIPTION:Please join us for a Chamber Coffee at Barton County Academy\, 5220 W 10th Street\, Great Bend.\n\n\n\nCoffee starts at 9am. Program at 9:30am.
X-ALT-DESC;FMTTYPE=text/html:<span style="font-family:arial\;"><span style="color: rgb(13\, 6\, 0)\; font-size: 13.3333px\;">Please join us for a Chamber Coffee at Barton County Academy\, 5220 W 10th Street\, Great Bend.</span><br style="color: rgb(13\, 6\, 0)\; font-family: Georgia\; font-size: 13.3333px\;" />\n<br style="color: rgb(13\, 6\, 0)\; font-family: Georgia\; font-size: 13.3333px\;" />\n<span style="color: rgb(13\, 6\, 0)\; font-size: 13.3333px\;">Coffee starts at 9am. Program at 9:30am.</span></span>
LOCATION:5220 W. 10th St. Great Bend\, KS 67530
UID:e.2303.3010
SEQUENCE:3
DTSTAMP:20260422T155415Z
URL:https://members.greatbend.org/events/details/chamber-coffee-barton-county-academy-3010
END:VEVENT

END:VCALENDAR
