BEGIN:VCALENDAR
VERSION:2.0
PRODID:-//ChamberMaster//Event Calendar 2.0//EN
METHOD:PUBLISH
X-PUBLISHED-TTL:P3D
REFRESH-INTERVAL:P3D
CALSCALE:GREGORIAN
BEGIN:VEVENT
DTSTART:20171019T140000Z
DTEND:20171019T150000Z
X-MICROSOFT-CDO-ALLDAYEVENT:FALSE
SUMMARY:Chamber Coffee: Bling Inc
DESCRIPTION:The community is invited to attend the weekly Chamber Coffee hosted on Thursday\, October 19th at Bling in Great Bend. Networking\, coffee & refreshments are available at 9:00am\, the program will take place at 9:30am.
X-ALT-DESC;FMTTYPE=text/html:The community is invited to attend the weekly Chamber Coffee hosted on Thursday\, October 19th&nbsp\;at Bling in Great Bend. Networking\, coffee &amp\; refreshments are available at 9:00am\, the program will take place at 9:30am.&nbsp\;
LOCATION:Bling Inc. 2019 Lakin Ave. Great Bend\, KS
UID:e.2303.3353
SEQUENCE:3
DTSTAMP:20260422T132033Z
URL:https://members.greatbend.org/events/details/chamber-coffee-bling-inc-3353
END:VEVENT

END:VCALENDAR
