BEGIN:VCALENDAR
VERSION:2.0
PRODID:-//ChamberMaster//Event Calendar 2.0//EN
METHOD:PUBLISH
X-PUBLISHED-TTL:P3D
REFRESH-INTERVAL:P3D
CALSCALE:GREGORIAN
BEGIN:VEVENT
DTSTART:20170706T123000Z
DTEND:20170706T140000Z
X-MICROSOFT-CDO-ALLDAYEVENT:FALSE
SUMMARY:Chamber Coffee & Breakfast: Barton County Fair *** 7:30am ***
DESCRIPTION:In conjunction with the Business Appreciation Breakfast\, join us bright and early for a pancake breakfast with all the fixings! Outstanding door prizes provided by the 4-H Clubs will be drawn throughout the morning. The 2017 Barton County Fair runs from July 5-9th\, with something for everyone! Learn more at www.bartoncountyfair.com.
X-ALT-DESC;FMTTYPE=text/html:In conjunction with the Business Appreciation Breakfast\, join us bright and early for a pancake breakfast with all the fixings! Outstanding door prizes provided by the 4-H Clubs will be drawn throughout the morning. The 2017 Barton County Fair runs from July 5-9th\, with something for everyone! Learn more at www.bartoncountyfair.com.&nbsp\;
LOCATION:Barton County Fairgrounds Expo II
UID:e.2303.1735
SEQUENCE:3
DTSTAMP:20260422T171617Z
URL:https://members.greatbend.org/events/details/chamber-coffee-breakfast-barton-county-fair-7-30am-1735
END:VEVENT

END:VCALENDAR
