BEGIN:VCALENDAR
VERSION:2.0
PRODID:-//ChamberMaster//Event Calendar 2.0//EN
METHOD:PUBLISH
X-PUBLISHED-TTL:P3D
REFRESH-INTERVAL:P3D
CALSCALE:GREGORIAN
BEGIN:VEVENT
DTSTART:20240516T140000Z
DTEND:20240516T150000Z
X-MICROSOFT-CDO-ALLDAYEVENT:FALSE
SUMMARY:Chamber Coffee - Center for Counseling
DESCRIPTION:Join us for a Chamber Coffee at the Center for Counseling to be held at 1225 Patton Rd\, Great Bend\, KS 67530.
X-ALT-DESC;FMTTYPE=text/html:<span style="font-size:22px\;">Join us for a Chamber Coffee at the Center for Counseling to be held at 1225 Patton Rd\, Great Bend\, KS 67530.&nbsp\;</span>
LOCATION:1225 Patton Rd Great Bend\, KS 67530
UID:e.2303.13276
SEQUENCE:3
DTSTAMP:20260425T185106Z
URL:https://members.greatbend.org/events/details/chamber-coffee-center-for-counseling-13276
END:VEVENT

END:VCALENDAR
