BEGIN:VCALENDAR
VERSION:2.0
PRODID:-//ChamberMaster//Event Calendar 2.0//EN
METHOD:PUBLISH
X-PUBLISHED-TTL:P3D
REFRESH-INTERVAL:P3D
CALSCALE:GREGORIAN
BEGIN:VEVENT
DTSTART:20180222T150000Z
DTEND:20180222T160000Z
X-MICROSOFT-CDO-ALLDAYEVENT:FALSE
SUMMARY:Chamber Coffee: Central Kansas Dream Center - Chapel
DESCRIPTION:Please join us for our weekly Chamber Coffee\, hosted by Central Kansas Dream Center! Networking\, coffee & refreshments are available at 9:00 AM\, the program will take place at 9:30 AM.
X-ALT-DESC;FMTTYPE=text/html:Please join us for our weekly Chamber Coffee\, hosted by Central Kansas Dream Center! Networking\, coffee &amp\; refreshments are available at 9:00 AM\, the program will take place at 9:30 AM.
LOCATION:2100 Broadway Ave. Great Bend
UID:e.2303.3495
SEQUENCE:3
DTSTAMP:20260422T082704Z
URL:https://members.greatbend.org/events/details/chamber-coffee-central-kansas-dream-center-chapel-3495
END:VEVENT

END:VCALENDAR
