BEGIN:VCALENDAR
VERSION:2.0
PRODID:-//ChamberMaster//Event Calendar 2.0//EN
METHOD:PUBLISH
X-PUBLISHED-TTL:P3D
REFRESH-INTERVAL:P3D
CALSCALE:GREGORIAN
BEGIN:VEVENT
DTSTART:20220728T140000Z
DTEND:20220728T150000Z
X-MICROSOFT-CDO-ALLDAYEVENT:FALSE
SUMMARY:Chamber Coffee: Central Kansas Partnership
DESCRIPTION:Please join us for our weekly Chamber Coffee\, this week is hosted by Central Kansas Partnership\, location will be at the Bike Campground west of Central Baptist Church at 3301 Lakin Ave. Doors open at 9 am. The program begins at 9:30 am. If you can't make it in person\, join us online! #Networking #JoinUs
X-ALT-DESC;FMTTYPE=text/html:<span data-sheets-userformat="{&quot\;2&quot\;:1063425\,&quot\;3&quot\;:{&quot\;1&quot\;:0}\,&quot\;12&quot\;:0\,&quot\;14&quot\;:{&quot\;1&quot\;:2\,&quot\;2&quot\;:328965}\,&quot\;15&quot\;:&quot\;Montserrat&quot\;\,&quot\;16&quot\;:10\,&quot\;23&quot\;:1}" data-sheets-value="{&quot\;1&quot\;:2\,&quot\;2&quot\;:&quot\;&#127849\; &#9749\;&#65039\; Please join us for our weekly Chamber Coffee\, this week is hosted by Encounter Church\, 601 Patton Rd in Great Bend. Doors open at 9 am. The program begins at 9:30 am. If you can't make it in person\, join us online! #Networking #JoinUs&quot\;}" style="font-size: 10pt\; font-family: Montserrat\, Arial\; color: rgb(5\, 5\, 5)\;">&#127849\; &#9749\;&#65039\; Please join us for our weekly Chamber Coffee\, this week is hosted by Central Kansas Partnership\, location will be at the Bike Campground west of Central Baptist Church at 3301 Lakin Ave. Doors open at 9 am. The program begins at 9:30 am. If you can&#39\;t make it in person\, join us online! #Networking #JoinUs</span>
LOCATION:3301 Lakin Ave or watch online: https://www.facebook.com/223648337668874/posts/5673751719325148/ https://www.youtube.com/watch?v=qZZXyoT-AfI
UID:e.2303.9157
SEQUENCE:3
DTSTAMP:20260423T032625Z
URL:https://members.greatbend.org/events/details/chamber-coffee-central-kansas-partnership-9157
END:VEVENT

END:VCALENDAR
