BEGIN:VCALENDAR
VERSION:2.0
PRODID:-//ChamberMaster//Event Calendar 2.0//EN
METHOD:PUBLISH
X-PUBLISHED-TTL:P3D
REFRESH-INTERVAL:P3D
CALSCALE:GREGORIAN
BEGIN:VEVENT
DTSTART:20170608T140000Z
DTEND:20170608T150000Z
X-MICROSOFT-CDO-ALLDAYEVENT:FALSE
SUMMARY:Chamber Coffee: Cherry Village Benevolence\, Inc.
DESCRIPTION:Please join us for a Chamber Coffee at Cherry Village Benevolence\, Inc.\, 1401 Cherry Ln\, Great Bend.\n\n\n\nCoffee starts at 9am. Program at 9:30am.
X-ALT-DESC;FMTTYPE=text/html:<span style="color: rgb(13\, 6\, 0)\; font-family: Georgia\; font-size: 13.3333px\;">Please join us for a Chamber Coffee at Cherry Village Benevolence\, Inc.\, 1401 Cherry Ln\, Great Bend.</span><br style="color: rgb(13\, 6\, 0)\; font-family: Georgia\; font-size: 13.3333px\;" />\n<br style="color: rgb(13\, 6\, 0)\; font-family: Georgia\; font-size: 13.3333px\;" />\n<span style="color: rgb(13\, 6\, 0)\; font-family: Georgia\; font-size: 13.3333px\;">Coffee starts at 9am. Program at 9:30am.</span>
LOCATION:Cherry Village Benevolence\, Inc. 1401 Cherry Lane Great Bend
UID:e.2303.1656
SEQUENCE:3
DTSTAMP:20260422T185530Z
URL:https://members.greatbend.org/events/details/chamber-coffee-cherry-village-benevolence-inc-1656
END:VEVENT

END:VCALENDAR
