BEGIN:VCALENDAR
VERSION:2.0
PRODID:-//ChamberMaster//Event Calendar 2.0//EN
METHOD:PUBLISH
X-PUBLISHED-TTL:P3D
REFRESH-INTERVAL:P3D
CALSCALE:GREGORIAN
BEGIN:VEVENT
DTSTART:20170601T140000Z
DTEND:20170601T150000Z
X-MICROSOFT-CDO-ALLDAYEVENT:FALSE
SUMMARY:Chamber Coffee: Clara Barton Hospital Foundation
DESCRIPTION:Please join us for a Chamber Coffee at Clara Barton Hospital Foundation\, 250 W 9th St\, Hoisington.\n\n\n\nCoffee starts at 9am. Program at 9:30am.
X-ALT-DESC;FMTTYPE=text/html:<span style="color: rgb(13\, 6\, 0)\; font-family: Georgia\; font-size: 13.3333px\;">Please join us for a Chamber Coffee at Clara Barton Hospital Foundation\, 250 W 9th St\, Hoisington.</span><br style="color: rgb(13\, 6\, 0)\; font-family: Georgia\; font-size: 13.3333px\;" />\n<br style="color: rgb(13\, 6\, 0)\; font-family: Georgia\; font-size: 13.3333px\;" />\n<span style="color: rgb(13\, 6\, 0)\; font-family: Georgia\; font-size: 13.3333px\;">Coffee starts at 9am. Program at 9:30am.</span>
LOCATION:Clara Barton Hospital Foundation 250 W 9th St\, Hoisington
UID:e.2303.1649
SEQUENCE:3
DTSTAMP:20260422T185045Z
URL:https://members.greatbend.org/events/details/chamber-coffee-clara-barton-hospital-foundation-1649
END:VEVENT

END:VCALENDAR
