BEGIN:VCALENDAR
VERSION:2.0
PRODID:-//ChamberMaster//Event Calendar 2.0//EN
METHOD:PUBLISH
X-PUBLISHED-TTL:P3D
REFRESH-INTERVAL:P3D
CALSCALE:GREGORIAN
BEGIN:VEVENT
DTSTART:20201015T143000Z
DTEND:20201015T150000Z
X-MICROSOFT-CDO-ALLDAYEVENT:FALSE
SUMMARY:Chamber Coffee: Coldwell Banker Sell Real Estate
DESCRIPTION:Please join us for our weekly Chamber Coffee\, hosted by Coldwell Banker Sell Real Estate. Program will take place at 9:30 AM.
X-ALT-DESC;FMTTYPE=text/html:Please join us for our weekly Chamber Coffee\, hosted by Coldwell Banker Sell Real Estate. Program will take place at 9:30 AM.
LOCATION:watch via facebook: https://www.facebook.com/223648337668874/posts/3720982944602045/ or YouTube: https://www.youtube.com/watch?v=OEeS5MrHk-o
UID:e.2303.8037
SEQUENCE:3
DTSTAMP:20260425T123948Z
URL:https://members.greatbend.org/events/details/chamber-coffee-coldwell-banker-sell-real-estate-8037
END:VEVENT

END:VCALENDAR
