BEGIN:VCALENDAR
VERSION:2.0
PRODID:-//ChamberMaster//Event Calendar 2.0//EN
METHOD:PUBLISH
X-PUBLISHED-TTL:P3D
REFRESH-INTERVAL:P3D
CALSCALE:GREGORIAN
BEGIN:VEVENT
DTSTART:20260514T140000Z
DTEND:20260514T150000Z
X-MICROSOFT-CDO-ALLDAYEVENT:FALSE
SUMMARY:Chamber Coffee: Cottonwood Extension District
DESCRIPTION:Chamber Coffee Today   \n\nJoin the Great Bend Chamber of Commerce for a Chamber Coffee hosted by the Cottonwood Extension District! Enjoy a cup of coffee\, connect with others and stay in the know about what's happening in our vibrant community. Doors open at 9:00 AM\, and the program begins at 9:30 AM. Let's kick off the day together!
X-ALT-DESC;FMTTYPE=text/html:<span style="color: rgb(34\, 34\, 34)\; font-family: Arial\, Helvetica\, sans-serif\; font-size: 16px\;">&#9749\;&#65039\;</span><strong style="color: rgb(34\, 34\, 34)\; font-family: Arial\, Helvetica\, sans-serif\; font-size: 16px\;">Chamber Coffee Today</strong><span style="color: rgb(34\, 34\, 34)\; font-family: Arial\, Helvetica\, sans-serif\; font-size: 16px\;">&nbsp\;&#9728\;&#65039\;</span><br style="color: rgb(34\, 34\, 34)\; font-family: Arial\, Helvetica\, sans-serif\; font-size: 16px\;" />\n<span style="color: rgb(34\, 34\, 34)\; font-family: Arial\, Helvetica\, sans-serif\; font-size: 16px\;">Join the Great Bend Chamber of Commerce for a Chamber Coffee hosted by the Cottonwood Extension District!&nbsp\;Enjoy a cup of coffee\, connect with others and stay in the know about what&rsquo\;s happening in our vibrant community. Doors open at 9:00 AM\, and the program begins at 9:30 AM. Let&rsquo\;s kick off the day together!</span>
LOCATION:K-State Research & Extension Cottonwood Extension District 3007 10th St.\, Great Bend\, KS 67530
UID:e.2303.17966
SEQUENCE:3
DTSTAMP:20260421T150614Z
URL:https://members.greatbend.org/events/details/chamber-coffee-cottonwood-extension-district-17966
END:VEVENT

END:VCALENDAR
