BEGIN:VCALENDAR
VERSION:2.0
PRODID:-//ChamberMaster//Event Calendar 2.0//EN
METHOD:PUBLISH
X-PUBLISHED-TTL:P3D
REFRESH-INTERVAL:P3D
CALSCALE:GREGORIAN
BEGIN:VEVENT
DTSTART:20170810T140000Z
DTEND:20170810T150000Z
X-MICROSOFT-CDO-ALLDAYEVENT:FALSE
SUMMARY:Chamber Coffee: Culligan Water
DESCRIPTION:Please join us for a Chamber Coffee at Culligan Water\, 1706 Main St\, Great Bend.\n\n\n\nCoffee starts at 9am. Program at 9:30am.
X-ALT-DESC;FMTTYPE=text/html:<span style="color:#0D0600\;"><span style="font-family:georgia\,serif\;"><span style="font-size:10.0pt\;">Please join us for a Chamber Coffee at Culligan Water\, 1706 Main St\, Great Bend.<br />\n<br />\nCoffee starts at 9am. Program at 9:30am.</span></span></span>
LOCATION:Culligan Water 1706 Main St
UID:e.2303.3022
SEQUENCE:3
DTSTAMP:20260422T155823Z
URL:https://members.greatbend.org/events/details/chamber-coffee-culligan-water-3022
END:VEVENT

END:VCALENDAR
