BEGIN:VCALENDAR
VERSION:2.0
PRODID:-//ChamberMaster//Event Calendar 2.0//EN
METHOD:PUBLISH
X-PUBLISHED-TTL:P3D
REFRESH-INTERVAL:P3D
CALSCALE:GREGORIAN
BEGIN:VEVENT
DTSTART:20240418T140000Z
DTEND:20240418T150000Z
X-MICROSOFT-CDO-ALLDAYEVENT:FALSE
SUMMARY:Chamber Coffee - Eyecare of Great Bend
DESCRIPTION:Join us for a Chamber Coffee with Eyecare of Great Bend.
X-ALT-DESC;FMTTYPE=text/html:Join us for a Chamber Coffee with Eyecare of Great Bend.
LOCATION:913 McKinley St Great Bend\, KS 67530
UID:e.2303.13444
SEQUENCE:3
DTSTAMP:20260425T235615Z
URL:https://members.greatbend.org/events/details/chamber-coffee-eyecare-of-great-bend-13444
END:VEVENT

END:VCALENDAR
