BEGIN:VCALENDAR
VERSION:2.0
PRODID:-//ChamberMaster//Event Calendar 2.0//EN
METHOD:PUBLISH
X-PUBLISHED-TTL:P3D
REFRESH-INTERVAL:P3D
CALSCALE:GREGORIAN
BEGIN:VEVENT
DTSTART:20170831T140000Z
DTEND:20170831T150000Z
X-MICROSOFT-CDO-ALLDAYEVENT:FALSE
SUMMARY:Chamber Coffee: Eyecare of Great Bend
DESCRIPTION:Please join us for a Chamber Coffee at Eyecare of Great Bend\, 713 McKinley\, Great Bend.\n\n\n\nCoffee starts at 9am. Program at 9:30am.\n\n\n\nEyecare of Great Bend has been serving Barton and the surrounding counties since 1986\, originating with Dr. Greg F. Copeland. In 1996\, Dr. Douglas D. Ayre joined the practice and now\, we would like to welcome Dr. Reed A. McAtee! Originally\, from Lakin\, KS\, Dr. McAtee and his family are looking forward to serving Great Bend and the surrounding communities with state-of-the-art eye care delivered with old-fashioned caring. Please join us in welcoming him and his family to the community.
X-ALT-DESC;FMTTYPE=text/html:<span style="color:#0D0600\;"><span style="font-family:georgia\,serif\;"><span style="font-size:10.0pt\;">Please join us for a Chamber Coffee at Eyecare of Great Bend\, 713 McKinley\, Great Bend.<br />\n<br />\nCoffee starts at 9am. Program at 9:30am.<br />\n<br />\nEyecare of Great Bend has been serving Barton and the surrounding counties since 1986\, originating with Dr. Greg F. Copeland. In 1996\, Dr. Douglas D. Ayre joined the practice and now\, we would like to welcome Dr. Reed A. McAtee! Originally\, from Lakin\, KS\, Dr. McAtee and his family are looking forward to serving Great Bend and the surrounding communities with state-of-the-art eye care delivered with old-fashioned caring. Please join us in welcoming him and his family to the community.</span></span></span>
LOCATION:Eyecare of Great Bend 713 McKinley
UID:e.2303.3020
SEQUENCE:3
DTSTAMP:20260422T155732Z
URL:https://members.greatbend.org/events/details/chamber-coffee-eyecare-of-great-bend-3020
END:VEVENT

END:VCALENDAR
