BEGIN:VCALENDAR
VERSION:2.0
PRODID:-//ChamberMaster//Event Calendar 2.0//EN
METHOD:PUBLISH
X-PUBLISHED-TTL:P3D
REFRESH-INTERVAL:P3D
CALSCALE:GREGORIAN
BEGIN:VEVENT
DTSTART:20170817T140000Z
DTEND:20170817T150000Z
X-MICROSOFT-CDO-ALLDAYEVENT:FALSE
SUMMARY:Chamber Coffee: First Kansas Bank w/ Senator Pat Roberts
DESCRIPTION:The community is invited to attend the weekly Chamber Coffee hosted on Thursday\, Aug. 17th at First Kansas Bank\, 4001 W 10th Street\, Great Bend. Senator Pat Roberts will be present.\n\n\n\nCoffee starts at 9am. Program at 9:30am.
X-ALT-DESC;FMTTYPE=text/html:<span style="color:#0D0600\;"><span style="font-family:georgia\,serif\;"><span style="font-size:10.0pt\;">The community is invited to attend the weekly Chamber Coffee hosted on Thursday\, Aug. 17th at&nbsp\;First Kansas Bank\, 4001 W 10th Street\, Great Bend. Senator Pat Roberts will be present.<br />\n<br />\nCoffee starts at 9am. Program at 9:30am.</span></span></span>
LOCATION:First Kansas Bank 4001 W 10th St Great Bend\, KS 67530
UID:e.2303.3023
SEQUENCE:3
DTSTAMP:20260422T161545Z
URL:https://members.greatbend.org/events/details/chamber-coffee-first-kansas-bank-w-senator-pat-roberts-3023
END:VEVENT

END:VCALENDAR
