BEGIN:VCALENDAR
VERSION:2.0
PRODID:-//ChamberMaster//Event Calendar 2.0//EN
METHOD:PUBLISH
X-PUBLISHED-TTL:P3D
REFRESH-INTERVAL:P3D
CALSCALE:GREGORIAN
BEGIN:VEVENT
DTSTART:20180125T150000Z
DTEND:20180125T160000Z
X-MICROSOFT-CDO-ALLDAYEVENT:FALSE
SUMMARY:Chamber Coffee: Have It Maid Cleaning Services
DESCRIPTION:Please join us for our weekly Chamber Coffee\, hosted by Have It Made Cleaning Services! Networking\, coffee & refreshments are available at 9:00 AM\, the program will take place at 9:30 AM.\n\n\n\nThis will be followed by a Ribbon Cutting.
X-ALT-DESC;FMTTYPE=text/html:Please join us for our weekly Chamber Coffee\, hosted by Have It Made Cleaning Services! Networking\, coffee &amp\; refreshments are available at 9:00 AM\, the program will take place at 9:30 AM.<br />\n<br />\nThis will be followed by a Ribbon Cutting.
LOCATION:Spray-Holt Family Board Room Great Bend Chamber of Commerce and Economic Development 1125 Williams St. Great Bend
UID:e.2303.3494
SEQUENCE:3
DTSTAMP:20260420T093901Z
URL:https://members.greatbend.org/events/details/chamber-coffee-have-it-maid-cleaning-services-3494
END:VEVENT

END:VCALENDAR
