BEGIN:VCALENDAR
VERSION:2.0
PRODID:-//ChamberMaster//Event Calendar 2.0//EN
METHOD:PUBLISH
X-PUBLISHED-TTL:P3D
REFRESH-INTERVAL:P3D
CALSCALE:GREGORIAN
BEGIN:VEVENT
DTSTART:20260521T140000Z
DTEND:20260521T150000Z
X-MICROSOFT-CDO-ALLDAYEVENT:FALSE
SUMMARY:Chamber Coffee: Heartland Center for Spirituality
DESCRIPTION:Chamber Coffee Today   \n\nJoin the Great Bend Chamber of Commerce for a Chamber Coffee to celebrate and learn more about what Heartland Center for Spirituality has planned through the end of the year! Sip on some coffee\, make great connections\, and hear what's new and noteworthy in our community. Doors open at 9:00 AM\, and the program kicks off at 9:30 AM. Come start the morning with us!
X-ALT-DESC;FMTTYPE=text/html:<span style="font-size: 16px\;">&#9749\;&#65039\;</span><strong style="font-size: 16px\;">Chamber Coffee Today</strong><span style="font-size: 16px\;">&nbsp\;&#9728\;&#65039\;</span><br style="font-size: 16px\;" />\n<span style="font-size: 16px\;">Join the Great Bend Chamber of Commerce for a Chamber Coffee to celebrate and learn more about what Heartland Center for Spirituality has planned through the end of the year! Sip on some coffee\, make great connections\, and hear what&#39\;s new and noteworthy in our community. Doors open at 9:00 AM\, and the program kicks off at 9:30 AM. Come start the morning with us!</span>
LOCATION:Heartland Center for Spirituality 3600 Broadway Great Bend\, KS 67530
UID:e.2303.18212
SEQUENCE:3
DTSTAMP:20260421T150937Z
URL:https://members.greatbend.org/events/details/chamber-coffee-heartland-center-for-spirituality-18212
END:VEVENT

END:VCALENDAR
