BEGIN:VCALENDAR
VERSION:2.0
PRODID:-//ChamberMaster//Event Calendar 2.0//EN
METHOD:PUBLISH
X-PUBLISHED-TTL:P3D
REFRESH-INTERVAL:P3D
CALSCALE:GREGORIAN
BEGIN:VEVENT
DTSTART:20240509T140000Z
DTEND:20240509T150000Z
X-MICROSOFT-CDO-ALLDAYEVENT:FALSE
SUMMARY:Chamber Coffee - Housing Opportunities\, Inc
DESCRIPTION:Join us for a Chamber Coffee for Housing Opportunities\, Inc. held at their Bedford Place Community Room\, 2406 31st St\, Great Bend\, KS 67530.
X-ALT-DESC;FMTTYPE=text/html:<span style="font-size:22px\;">Join us for a Chamber Coffee for Housing Opportunities\, Inc. held at their Bedford Place Community Room\, 2406 31st St\, Great Bend\, KS 67530.</span>
LOCATION:Bedford Place Community Room 2406 31st St Great Bend\, KS 67530
UID:e.2303.13275
SEQUENCE:3
DTSTAMP:20260425T185154Z
URL:https://members.greatbend.org/events/details/chamber-coffee-housing-opportunities-inc-05-09-2024-13275
END:VEVENT

END:VCALENDAR
