BEGIN:VCALENDAR
VERSION:2.0
PRODID:-//ChamberMaster//Event Calendar 2.0//EN
METHOD:PUBLISH
X-PUBLISHED-TTL:P3D
REFRESH-INTERVAL:P3D
CALSCALE:GREGORIAN
BEGIN:VEVENT
DTSTART:20240502T140000Z
DTEND:20240502T150000Z
X-MICROSOFT-CDO-ALLDAYEVENT:FALSE
SUMMARY:Chamber Coffee - ICT Insurance
DESCRIPTION:Join us for this week's Chamber Coffee with Michele Gregg of ICT Insurance\, hosted at the Great Bend Chamber of Commerce Board Room\, 1125 Williams St. Doors open at 9:00 am. Program starts at 9:30 pm.
X-ALT-DESC;FMTTYPE=text/html:Join us for this week&#39\;s Chamber Coffee with Michele Gregg of ICT Insurance\, hosted at the Great Bend Chamber of Commerce Board Room\, 1125 Williams St. Doors open at 9:00 am. Program starts at 9:30 pm.
LOCATION:Great Bend Chamber of Commerce 1125 Williams St. Great Bend\, KS 67530
UID:e.2303.13274
SEQUENCE:3
DTSTAMP:20260425T184928Z
URL:https://members.greatbend.org/events/details/chamber-coffee-ict-insurance-13274
END:VEVENT

END:VCALENDAR
