BEGIN:VCALENDAR
VERSION:2.0
PRODID:-//ChamberMaster//Event Calendar 2.0//EN
METHOD:PUBLISH
X-PUBLISHED-TTL:P3D
REFRESH-INTERVAL:P3D
CALSCALE:GREGORIAN
BEGIN:VEVENT
DTSTART:20171012T140000Z
DTEND:20171012T150000Z
X-MICROSOFT-CDO-ALLDAYEVENT:FALSE
SUMMARY:Chamber Coffee: KFC
DESCRIPTION:Please join us for the Weekly Chamber Coffee\, hosted on Thursday\, Oct. 12th by KFC in Great Bend.  Doors open at 9a.m. for coffee and networking. Program starts at 9:30a.m.
X-ALT-DESC;FMTTYPE=text/html:Please join us for the Weekly Chamber Coffee\, hosted on Thursday\, Oct. 12th by KFC in Great Bend. &nbsp\;Doors open at 9a.m. for coffee and networking. Program starts at 9:30a.m.
LOCATION:KFC 2917 10th St. | Great Bend
UID:e.2303.3352
SEQUENCE:3
DTSTAMP:20260422T131904Z
URL:https://members.greatbend.org/events/details/chamber-coffee-kfc-3352
END:VEVENT

END:VCALENDAR
