BEGIN:VCALENDAR
VERSION:2.0
PRODID:-//ChamberMaster//Event Calendar 2.0//EN
METHOD:PUBLISH
X-PUBLISHED-TTL:P3D
REFRESH-INTERVAL:P3D
CALSCALE:GREGORIAN
BEGIN:VEVENT
DTSTART:20170928T140000Z
DTEND:20170928T150000Z
X-MICROSOFT-CDO-ALLDAYEVENT:FALSE
SUMMARY:Chamber Coffee: Kindred Hospice
DESCRIPTION:The Community is invited to attend the weekly Chamber Coffee\, hosted on Thursday\, Sept. 28th by Kindred Hospice\, formerly Gentiva\, at the Spray Holt Family Board Room inside the Chamber of Commerce office in Great Bend.
X-ALT-DESC;FMTTYPE=text/html:The Community is invited to attend the weekly Chamber Coffee\, hosted on Thursday\, Sept. 28th&nbsp\;by Kindred Hospice\, formerly Gentiva\,&nbsp\;at the Spray Holt Family Board Room inside the Chamber of Commerce office&nbsp\;in Great Bend.
LOCATION:Spray Holt Family Board Room Chamber of Commerce office 1125 Williams Great Bend\, KS 67530
UID:e.2303.3329
SEQUENCE:3
DTSTAMP:20260422T143753Z
URL:https://members.greatbend.org/events/details/chamber-coffee-kindred-hospice-3329
END:VEVENT

END:VCALENDAR
