BEGIN:VCALENDAR
VERSION:2.0
PRODID:-//ChamberMaster//Event Calendar 2.0//EN
METHOD:PUBLISH
X-PUBLISHED-TTL:P3D
REFRESH-INTERVAL:P3D
CALSCALE:GREGORIAN
BEGIN:VEVENT
DTSTART:20201022T143000Z
DTEND:20201022T150000Z
X-MICROSOFT-CDO-ALLDAYEVENT:FALSE
SUMMARY:Chamber Coffee: Pawnee Valley Sleep and Diagnostic Center
DESCRIPTION:Please join us for our weekly Chamber Coffee\, hosted by  Pawnee Valley Sleep and Diagnostic Center. Program will take place at 9:30 AM.
X-ALT-DESC;FMTTYPE=text/html:<span style="font-size:12px\;"><span style="font-family:arial\;">Please join us for our weekly Chamber Coffee\, hosted by&nbsp\;</span></span>&nbsp\;Pawnee Valley Sleep and Diagnostic Center<span style="font-size:12px\;"><span style="font-family:arial\;">. Program will take place at 9:30 AM.</span></span>
LOCATION:watch via facebook: https://www.facebook.com/gbcoc/videos/697653207505500/ or YouTube: https://www.youtube.com/watch?v=JPFudUjWIvs
UID:e.2303.8038
SEQUENCE:3
DTSTAMP:20260425T105150Z
URL:https://members.greatbend.org/events/details/chamber-coffee-pawnee-valley-sleep-and-diagnostic-center-8038
END:VEVENT

END:VCALENDAR
