BEGIN:VCALENDAR
VERSION:2.0
PRODID:-//ChamberMaster//Event Calendar 2.0//EN
METHOD:PUBLISH
X-PUBLISHED-TTL:P3D
REFRESH-INTERVAL:P3D
CALSCALE:GREGORIAN
BEGIN:VEVENT
DTSTART:20220721T140000Z
DTEND:20220722T030000Z
X-MICROSOFT-CDO-ALLDAYEVENT:FALSE
SUMMARY:Chamber Coffee & Ribbon Cutting: First Congregational United Church of Christ
DESCRIPTION:Please join us for our weekly Chamber Coffee\, this week which is hosted by the First Congregational United Church of Christ\, 3100 21st S.\, in Great Bend. Doors open at 9 am. The program begins at 9:30 am with Ribbon Cutting to celebrate our 150th Anniversary to follow. If you can't make it in person\, join us online! #Networking #JoinUs
X-ALT-DESC;FMTTYPE=text/html:<span style="font-family: Roboto\, RobotoDraft\, Helvetica\, Arial\, sans-serif\; font-size: 13px\; white-space: pre-wrap\; background-color: rgb(255\, 255\, 255)\;">&#127849\; &#9749\;&#65039\; Please join us for our weekly Chamber Coffee\, this week which is hosted by the First Congregational United Church of Christ\, 3100 21st S.\, in Great Bend. Doors open at 9 am. The program begins at 9:30 am with Ribbon Cutting to celebrate our <u>150th Anniversary</u> to follow. If you can&#39\;t make it in person\, join us online! #Networking #JoinUs</span>
LOCATION:3100 21st Street or watch online: https://www.facebook.com/223648337668874/posts/5650072015026452/ https://www.youtube.com/watch?v=X3tGRoLDcsI
UID:e.2303.9433
SEQUENCE:3
DTSTAMP:20260423T033033Z
URL:https://members.greatbend.org/events/details/chamber-coffee-ribbon-cutting-first-congregational-united-church-of-christ-9433
END:VEVENT

END:VCALENDAR
