BEGIN:VCALENDAR
VERSION:2.0
PRODID:-//ChamberMaster//Event Calendar 2.0//EN
METHOD:PUBLISH
X-PUBLISHED-TTL:P3D
REFRESH-INTERVAL:P3D
CALSCALE:GREGORIAN
BEGIN:VEVENT
DTSTART:20170720T140000Z
DTEND:20170720T153000Z
X-MICROSOFT-CDO-ALLDAYEVENT:FALSE
SUMMARY:Chamber Coffee & Ribbon Cutting: LearningRx
DESCRIPTION:Please join us for a Chamber Coffee & Ribbon Cutting celebrating a new business\; LearningRx!\n\n\n\nThe events will be held at the Spray Holt Family Board Room\n\n1125 Williams\, Great Bend.\n\n\n\nCoffee starts at 9am. Program at 9:30am. Ribbon cutting 10am.\n\n\n\nWe will walk across the street after the program for the ribbon cutting at their store front.\n\n\n\nLearningRx offers programs that train the cognitive skills the brain uses to think and learn\, and we serve struggling students\, as well as children and adults of all ages. With one brief visit to our brain training center\, you can witness the powerful testing and training techniques we have used to help many families throughout the area.
X-ALT-DESC;FMTTYPE=text/html:<span style="color: rgb(13\, 6\, 0)\; font-family: Georgia\; font-size: 13.3333px\;">Please join us for a Chamber Coffee &amp\; Ribbon Cutting celebrating a new business\; LearningRx!</span><br style="color: rgb(13\, 6\, 0)\; font-family: Georgia\; font-size: 13.3333px\;" />\n<br style="color: rgb(13\, 6\, 0)\; font-family: Georgia\; font-size: 13.3333px\;" />\n<span style="color: rgb(13\, 6\, 0)\; font-family: Georgia\; font-size: 13.3333px\;">The events will be held at the Spray Holt Family Board Room</span><br style="color: rgb(13\, 6\, 0)\; font-family: Georgia\; font-size: 13.3333px\;" />\n<span style="color: rgb(13\, 6\, 0)\; font-family: Georgia\; font-size: 13.3333px\;">1125 Williams\, Great Bend.</span><br style="color: rgb(13\, 6\, 0)\; font-family: Georgia\; font-size: 13.3333px\;" />\n<br style="color: rgb(13\, 6\, 0)\; font-family: Georgia\; font-size: 13.3333px\;" />\n<span style="color: rgb(13\, 6\, 0)\; font-family: Georgia\; font-size: 13.3333px\;">Coffee starts at 9am. Program at 9:30am. Ribbon cutting 10am.</span><br style="color: rgb(13\, 6\, 0)\; font-family: Georgia\; font-size: 13.3333px\;" />\n<br style="color: rgb(13\, 6\, 0)\; font-family: Georgia\; font-size: 13.3333px\;" />\n<span style="color: rgb(13\, 6\, 0)\; font-family: Georgia\; font-size: 13.3333px\;">We will walk across the street after the program for the ribbon cutting at their store front.</span><br style="color: rgb(13\, 6\, 0)\; font-family: Georgia\; font-size: 13.3333px\;" />\n<br style="color: rgb(13\, 6\, 0)\; font-family: Georgia\; font-size: 13.3333px\;" />\n<span style="color: rgb(13\, 6\, 0)\; font-family: Georgia\; font-size: 13.3333px\;">LearningRx offers programs that train the cognitive skills the brain uses to think and learn\, and we serve struggling students\, as well as children and adults of all ages. With one brief visit to our brain training center\, you can witness the powerful testing and training techniques we have used to help many families throughout the area.</span>
LOCATION:Spray Holt Family Board Room 1125 Williams Great Bend
UID:e.2303.1839
SEQUENCE:3
DTSTAMP:20260422T172121Z
URL:https://members.greatbend.org/events/details/chamber-coffee-ribbon-cutting-learningrx-1839
END:VEVENT

END:VCALENDAR
