BEGIN:VCALENDAR
VERSION:2.0
PRODID:-//ChamberMaster//Event Calendar 2.0//EN
METHOD:PUBLISH
X-PUBLISHED-TTL:P3D
REFRESH-INTERVAL:P3D
CALSCALE:GREGORIAN
BEGIN:VEVENT
DTSTART:20170629T140000Z
DTEND:20170629T150000Z
X-MICROSOFT-CDO-ALLDAYEVENT:FALSE
SUMMARY:Chamber Coffee: Shelter Insurance
DESCRIPTION:Please join us for a Chamber Coffee at Shelter Insurance\, 3720 10th St\, Great Bend.\n\n\n\nCoffee starts at 9am. Program at 9:30am.
X-ALT-DESC;FMTTYPE=text/html:<span style="color: rgb(13\, 6\, 0)\; font-family: Georgia\; font-size: 13.3333px\;">Please join us for a Chamber Coffee at Shelter Insurance\, 3720 10th St\, Great Bend.</span><br style="color: rgb(13\, 6\, 0)\; font-family: Georgia\; font-size: 13.3333px\;" />\n<br style="color: rgb(13\, 6\, 0)\; font-family: Georgia\; font-size: 13.3333px\;" />\n<span style="color: rgb(13\, 6\, 0)\; font-family: Georgia\; font-size: 13.3333px\;">Coffee starts at 9am. Program at 9:30am.</span>
LOCATION:Shelter Insurance 3720 10th St Great Bend
UID:e.2303.1676
SEQUENCE:3
DTSTAMP:20260422T184933Z
URL:https://members.greatbend.org/events/details/chamber-coffee-shelter-insurance-1676
END:VEVENT

END:VCALENDAR
