BEGIN:VCALENDAR
VERSION:2.0
PRODID:-//ChamberMaster//Event Calendar 2.0//EN
METHOD:PUBLISH
X-PUBLISHED-TTL:P3D
REFRESH-INTERVAL:P3D
CALSCALE:GREGORIAN
BEGIN:VEVENT
DTSTART:20170921T140000Z
DTEND:20170921T150000Z
X-MICROSOFT-CDO-ALLDAYEVENT:FALSE
SUMMARY:Chamber Coffee: Sunflower Diversified Services
DESCRIPTION:The Community is invited to attend the weekly Chamber Coffee\, hosted on Thursday\, Sept. 21st by Sunflower Diversified Services at their Westside Market in Great Bend. The event will kick-off the Sunrise Campaign.
X-ALT-DESC;FMTTYPE=text/html:The Community is invited to attend the weekly Chamber Coffee\, hosted on Thursday\, Sept. 21st by Sunflower Diversified Services at their Westside Market in Great Bend. The event will kick-off the Sunrise Campaign.&nbsp\;
LOCATION:Sunflower Diversified Services - Westside Market 5523 10th Street Great Bend\, KS 67530
UID:e.2303.3042
SEQUENCE:3
DTSTAMP:20260422T144100Z
URL:https://members.greatbend.org/events/details/chamber-coffee-sunflower-diversified-services-3042
END:VEVENT

END:VCALENDAR
