BEGIN:VCALENDAR
VERSION:2.0
PRODID:-//ChamberMaster//Event Calendar 2.0//EN
METHOD:PUBLISH
X-PUBLISHED-TTL:P3D
REFRESH-INTERVAL:P3D
CALSCALE:GREGORIAN
BEGIN:VEVENT
DTSTART:20170824T140000Z
DTEND:20170824T150000Z
X-MICROSOFT-CDO-ALLDAYEVENT:FALSE
SUMMARY:Chamber Coffee: The Reserves at Trail Ridge
DESCRIPTION:Please join us for a Chamber Coffee at The Reserves at Trail Ridge\, 811 Grant Street\, Great Bend.\n\n\n\nCoffee starts at 9am. Program at 9:30am.
X-ALT-DESC;FMTTYPE=text/html:<span style="color:#0D0600\;"><span style="font-family:georgia\,serif\;"><span style="font-size:10.0pt\;">Please join us for a Chamber Coffee at The Reserves at Trail Ridge\, 811 Grant Street\, Great Bend.<br />\n<br />\nCoffee starts at 9am. Program at 9:30am.</span></span></span>
LOCATION:The Reserves at Trail Ridge 811 Grant
UID:e.2303.3024
SEQUENCE:3
DTSTAMP:20260422T161259Z
URL:https://members.greatbend.org/events/details/chamber-coffee-the-reserves-at-trail-ridge-3024
END:VEVENT

END:VCALENDAR
