BEGIN:VCALENDAR
VERSION:2.0
PRODID:-//ChamberMaster//Event Calendar 2.0//EN
METHOD:PUBLISH
X-PUBLISHED-TTL:P3D
REFRESH-INTERVAL:P3D
CALSCALE:GREGORIAN
BEGIN:VEVENT
DTSTART:20240620T140000Z
DTEND:20240620T150000Z
X-MICROSOFT-CDO-ALLDAYEVENT:FALSE
SUMMARY:Chamber Coffee - United Way of Central Kansas
DESCRIPTION:Join us at Sunflower Bank\, as the United Way of Central Kansas celebrates their 2024 Pacesetter Companies! Doors open at 9a.m. Program starts at 9:30a.m.
X-ALT-DESC;FMTTYPE=text/html:Join us at Sunflower Bank\, as the United Way of Central Kansas celebrates their 2024 Pacesetter Companies! Doors open at 9a.m. Program starts at 9:30a.m.
LOCATION:Sunflower Bank 3600 10th St Great Bend\, KS 67530
UID:e.2303.13645
SEQUENCE:3
DTSTAMP:20260425T222053Z
URL:https://members.greatbend.org/events/details/chamber-coffee-united-way-of-central-kansas-13645
END:VEVENT

END:VCALENDAR
