BEGIN:VCALENDAR
VERSION:2.0
PRODID:-//ChamberMaster//Event Calendar 2.0//EN
METHOD:PUBLISH
X-PUBLISHED-TTL:P3D
REFRESH-INTERVAL:P3D
CALSCALE:GREGORIAN
BEGIN:VEVENT
DTSTART:20210902T143000Z
DTEND:20210902T153000Z
X-MICROSOFT-CDO-ALLDAYEVENT:FALSE
SUMMARY:Chamber Coffee: United Way of Central Kansas
DESCRIPTION:Please join us for our weekly Chamber Coffee hosted by United Way of Central Kansas.  Program begins at 9:30am.
X-ALT-DESC;FMTTYPE=text/html:Please join us for our weekly Chamber Coffee hosted by United Way of Central Kansas.&nbsp\; Program begins at 9:30am.
LOCATION:Dry Lake Brewing 1305 Main Street in Great Bend or watch virtually: https://www.facebook.com/223648337668874/posts/4637143422985988/ or YouTube: https://www.youtube.com/watch?v=VhXYAncw80o
UID:e.2303.8353
SEQUENCE:3
DTSTAMP:20260425T010319Z
URL:https://members.greatbend.org/events/details/chamber-coffee-united-way-of-central-kansas-8353
END:VEVENT

END:VCALENDAR
