BEGIN:VCALENDAR
VERSION:2.0
PRODID:-//ChamberMaster//Event Calendar 2.0//EN
METHOD:PUBLISH
X-PUBLISHED-TTL:P3D
REFRESH-INTERVAL:P3D
CALSCALE:GREGORIAN
BEGIN:VEVENT
DTSTART:20201029T143000Z
DTEND:20201029T150000Z
X-MICROSOFT-CDO-ALLDAYEVENT:FALSE
SUMMARY:Chamber Coffee: USD 428 Foundation
DESCRIPTION:Join the Great Bend Chamber of Commerce each Thursday morning at 9:30am. Send calendar items and announcements before the broadcast to marketing@greatbend.org.  Hosting our coffee this week is USD 428 Foundation. Interact during the live show and you will be entered to win a door prize!
X-ALT-DESC;FMTTYPE=text/html:Join the Great Bend Chamber of Commerce each Thursday morning at 9:30am. Send calendar items and announcements before the broadcast to marketing@greatbend.org.&nbsp\; Hosting our coffee this week is USD 428 Foundation. Interact during the live show and you will be entered to win a door prize!
LOCATION:Watch on Facebook: https://www.facebook.com/223648337668874/posts/3762351333798539/ OR Youtube: https://www.youtube.com/watch?reload=9&v=oWIDw2YSK-g
UID:e.2303.7651
SEQUENCE:3
DTSTAMP:20260425T123626Z
URL:https://members.greatbend.org/events/details/chamber-coffee-usd-428-foundation-10-29-2020-7651
END:VEVENT

END:VCALENDAR
